BEGIN:VCALENDAR
VERSION:2.0
PRODID:-//The Official Site of the Salt Lake City AGO - ECPv6.15.20//NONSGML v1.0//EN
CALSCALE:GREGORIAN
METHOD:PUBLISH
X-WR-CALNAME:The Official Site of the Salt Lake City AGO
X-ORIGINAL-URL:https://slcago.org
X-WR-CALDESC:Events for The Official Site of the Salt Lake City AGO
REFRESH-INTERVAL;VALUE=DURATION:PT1H
X-Robots-Tag:noindex
X-PUBLISHED-TTL:PT1H
BEGIN:VTIMEZONE
TZID:America/Denver
BEGIN:DAYLIGHT
TZOFFSETFROM:-0700
TZOFFSETTO:-0600
TZNAME:MDT
DTSTART:20240310T090000
END:DAYLIGHT
BEGIN:STANDARD
TZOFFSETFROM:-0600
TZOFFSETTO:-0700
TZNAME:MST
DTSTART:20241103T080000
END:STANDARD
BEGIN:DAYLIGHT
TZOFFSETFROM:-0700
TZOFFSETTO:-0600
TZNAME:MDT
DTSTART:20250309T090000
END:DAYLIGHT
BEGIN:STANDARD
TZOFFSETFROM:-0600
TZOFFSETTO:-0700
TZNAME:MST
DTSTART:20251102T080000
END:STANDARD
BEGIN:DAYLIGHT
TZOFFSETFROM:-0700
TZOFFSETTO:-0600
TZNAME:MDT
DTSTART:20260308T090000
END:DAYLIGHT
BEGIN:STANDARD
TZOFFSETFROM:-0600
TZOFFSETTO:-0700
TZNAME:MST
DTSTART:20261101T080000
END:STANDARD
END:VTIMEZONE
BEGIN:VEVENT
DTSTART;TZID=America/Denver:20250914T180000
DTEND;TZID=America/Denver:20250914T193000
DTSTAMP:20260423T134046
CREATED:20250527T211505Z
LAST-MODIFIED:20250628T211752Z
UID:6562-1757872800-1757878200@slcago.org
SUMMARY:2025 Opening Social
DESCRIPTION:Date & Time:	\n			Sunday\, September 14\n\n	\n\n	  @  \n\n\n6:00 PM\n\n		\n\n\n\n	\n	  -  \n\n7:30 PM\n\n\n\n	\n				\n				\n				\n				\n																														\n				\n				\n				\n									Join us for a get-together to ring in the 2025-2026 Chapter year! We will socialize\, conduct Chapter business\, and preview upcoming events. Then\, we will travel to the Cathedral of the Madeleine and attend the first concert of the Eccles Organ Festival’s 32nd season. 								\n				\n					\n		\n					\n		\n				\n						\n					\n			\n						\n				\n					MUSIC EXCHANGE				\n				\n				\n				\n									A new annual tradition! Bring your old\, gently used organ music and exchange it for new treasures. 								\n				\n				\n				\n					\n	\n		\n\n	\n	Add to calendar	\n		\n	\n\n		\n			\n									\n	Google Calendar\n\n									\n	iCalendar\n\n									\n	Outlook 365\n\n									\n	Outlook Live\n\n							\n		\n\n		\n	\n\n				\n				\n				\n				\n					\n				\n				\n	\n	First Presbyterian Church\n	\n	\n\n12 C Street East\n	\n		\n		Salt Lake City\,\n\n	Utah\n\n	84103\n\n	United States\n\n\n\n\n	+ Google Map \n\n\n	\n					\n						\n	 \n\n\n	\n	View Venue Website \n\n\n\n	\n\n\n\n		\n	\n				\n				\n				\n				\n					\n	\n		\n\n				U of U Open Console & Organ Crawl 25th Anniversary	\n\n\n		\n	\n		Inspirational Organ Concert
URL:https://slcago.org/event/2025-opening-social/
LOCATION:First Presbyterian Church\, 12 C Street East\, Salt Lake City\, Utah\, 84103\, United States
CATEGORIES:Concerts & Recitals
ATTACH;FMTTYPE=image/jpeg:https://slcago.org/wp-content/uploads/2025/05/opening-social.jpg
END:VEVENT
END:VCALENDAR