BEGIN:VCALENDAR
VERSION:2.0
PRODID:-//The Official Site of the Salt Lake City AGO - ECPv6.15.20//NONSGML v1.0//EN
CALSCALE:GREGORIAN
METHOD:PUBLISH
X-WR-CALNAME:The Official Site of the Salt Lake City AGO
X-ORIGINAL-URL:https://slcago.org
X-WR-CALDESC:Events for The Official Site of the Salt Lake City AGO
REFRESH-INTERVAL;VALUE=DURATION:PT1H
X-Robots-Tag:noindex
X-PUBLISHED-TTL:PT1H
BEGIN:VTIMEZONE
TZID:America/Denver
BEGIN:DAYLIGHT
TZOFFSETFROM:-0700
TZOFFSETTO:-0600
TZNAME:MDT
DTSTART:20250309T090000
END:DAYLIGHT
BEGIN:STANDARD
TZOFFSETFROM:-0600
TZOFFSETTO:-0700
TZNAME:MST
DTSTART:20251102T080000
END:STANDARD
BEGIN:DAYLIGHT
TZOFFSETFROM:-0700
TZOFFSETTO:-0600
TZNAME:MDT
DTSTART:20260308T090000
END:DAYLIGHT
BEGIN:STANDARD
TZOFFSETFROM:-0600
TZOFFSETTO:-0700
TZNAME:MST
DTSTART:20261101T080000
END:STANDARD
BEGIN:DAYLIGHT
TZOFFSETFROM:-0700
TZOFFSETTO:-0600
TZNAME:MDT
DTSTART:20270314T090000
END:DAYLIGHT
BEGIN:STANDARD
TZOFFSETFROM:-0600
TZOFFSETTO:-0700
TZNAME:MST
DTSTART:20271107T080000
END:STANDARD
END:VTIMEZONE
BEGIN:VEVENT
DTSTART;TZID=America/Denver:20260305T150000
DTEND;TZID=America/Denver:20260305T210000
DTSTAMP:20260424T135227
CREATED:20260128T045647Z
LAST-MODIFIED:20260303T220449Z
UID:9288-1772722800-1772744400@slcago.org
SUMMARY:Campbell Organ Festival
DESCRIPTION:Thursday\, March 5\n\n	\n\n	  @  \n\n\n3:00 PM\n\n		\n\n\n\n	\n	  -  \n\n9:00 PM\n\n\n\n	\n				\n				\n				\n				\n																														\n				\n				\n				\n					Campbell Organ Festival				\n				\n				\n				\n							\n			\n						\n		\n						\n				\n				\n				\n					\n	\n	Date & Time:	\n			Thursday\, March 5\n\n	\n\n	  @  \n\n\n3:00 PM\n\n		\n\n\n\n	\n	  -  \n\n9:00 PM\n\n\n\n	\n				\n				\n				\n				\n				\n							\n			\n						\n		\n						\n				\n					\n				\n		\n					\n		\n		\n				\n				\n									The Campbell Festival is sponsored by the  Campbell Foundation\, which is a generous benefactor of the organ program. The featured instrument is the 3-manual\, 56 rank Holtkamp organ. It was originally installed in 1973 and refurbished in 2012. Each year\, the Campbell Festival welcomes a visiting organist to the campus of Utah State University. This year’s recital and masterclass will be presented by Utah State University alumnus Dr. Kenneth Udy. 								\n				\n				\n		\n				\n				\n																														\n				\n				\n				\n									The works of Tabernacle Organist Alexander Schreiner will be featured at this year’s event. Organist Kenneth Udy will present an assortment of pieces that Schreiner played during his career\, including some of schreiner’s own compositions.  								\n				\n				\n				\n					\n				\n		\n					\n				\n				\n							\n			\n						\n		\n						\n				\n				\n				\n					Three Events to Attend				\n				\n					\n				\n		\n					\n		\n		\n				\n				\n									Open Console3:00-4:30 pm								\n				\n				\n				\n																														\n				\n				\n		\n				\n				\n									Masterclass6:00 pm								\n				\n				\n				\n																														\n				\n				\n		\n				\n				\n									Recital7:00 pm								\n				\n				\n				\n																														\n				\n				\n				\n				\n				\n					\n				\n				\n	\n	Daines Concert Hall USU\n	\n	\n\n4030 Old Main Hill\n	\n		\n		Logan\,\n\n	UT\n\n	84322\n\n	United States\n\n\n\n\n	+ Google Map \n\n\n	\n					\n						\n	 \n\n\n	\n	 \n\n\n\n	\n\n\n\n		\n	\n				\n				\n				\n				\n					\n	\n		\n\n	\n	Add to calendar	\n		\n	\n\n		\n			\n									\n	Google Calendar\n\n									\n	iCalendar\n\n									\n	Outlook 365\n\n									\n	Outlook Live\n\n							\n		\n\n		\n	\n\n				\n				\n					\n				\n		\n					\n				\n				\n					\n	\n		\n\n				Britton J. Orwin Recital	\n\n\n		\n	\n		SLCAGO Member Recital
URL:https://slcago.org/event/campbell-organ-festival/
LOCATION:Daines Concert Hall USU\, 4030 Old Main Hill\, Logan\, UT\, 84322\, United States
CATEGORIES:Concerts & Recitals
ATTACH;FMTTYPE=image/jpeg:https://slcago.org/wp-content/uploads/2026/01/USU-pipes-scaled-e1769882838334.jpeg
ORGANIZER;CN="Shelby Fisher":MAILTO:dean@slcago.org
END:VEVENT
END:VCALENDAR