BEGIN:VCALENDAR
VERSION:2.0
PRODID:-//The Official Site of the Salt Lake City AGO - ECPv6.15.20//NONSGML v1.0//EN
CALSCALE:GREGORIAN
METHOD:PUBLISH
X-WR-CALNAME:The Official Site of the Salt Lake City AGO
X-ORIGINAL-URL:https://slcago.org
X-WR-CALDESC:Events for The Official Site of the Salt Lake City AGO
REFRESH-INTERVAL;VALUE=DURATION:PT1H
X-Robots-Tag:noindex
X-PUBLISHED-TTL:PT1H
BEGIN:VTIMEZONE
TZID:America/Denver
BEGIN:DAYLIGHT
TZOFFSETFROM:-0700
TZOFFSETTO:-0600
TZNAME:MDT
DTSTART:20250309T090000
END:DAYLIGHT
BEGIN:STANDARD
TZOFFSETFROM:-0600
TZOFFSETTO:-0700
TZNAME:MST
DTSTART:20251102T080000
END:STANDARD
BEGIN:DAYLIGHT
TZOFFSETFROM:-0700
TZOFFSETTO:-0600
TZNAME:MDT
DTSTART:20260308T090000
END:DAYLIGHT
BEGIN:STANDARD
TZOFFSETFROM:-0600
TZOFFSETTO:-0700
TZNAME:MST
DTSTART:20261101T080000
END:STANDARD
BEGIN:DAYLIGHT
TZOFFSETFROM:-0700
TZOFFSETTO:-0600
TZNAME:MDT
DTSTART:20270314T090000
END:DAYLIGHT
BEGIN:STANDARD
TZOFFSETFROM:-0600
TZOFFSETTO:-0700
TZNAME:MST
DTSTART:20271107T080000
END:STANDARD
END:VTIMEZONE
BEGIN:VEVENT
DTSTART;TZID=America/Denver:20260208T200000
DTEND;TZID=America/Denver:20260208T220000
DTSTAMP:20260423T110939
CREATED:20251229T183104Z
LAST-MODIFIED:20251231T195035Z
UID:9004-1770580800-1770588000@slcago.org
SUMMARY:Eccles Organ Festival Karol Mussakowski
DESCRIPTION:Sunday\, February 8\n\n	\n\n	  @  \n\n\n8:00 PM\n\n		\n\n\n\n	\n	  -  \n\n10:00 PM\n\n\n\n	\n				\n				\n				\n				\n					Eccles Organ Festival Karol Mussakowski				\n				\n				\n				\n									The newly appointed titular organist at Saint-Sulpice Church in Paris\, France\, Karol Mossakowski is renowned for both his interpretation and improvisation skills. Mossakowski is also professor of improvisation at the Higher School of Music in San Sebastián\, Spain\, and Artist in Residence at the Polish National Radio Symphony Orchestra in Katowice\, Poland.   								\n				\n				\n					\n				\n		\n					\n				\n				\n							\n			\n						\n		\n						\n				\n		\n		\n				\n				\n																														\n				\n				\n				\n					\n	\n		\n\n	\n	Add to calendar	\n		\n	\n\n		\n			\n									\n	Google Calendar\n\n									\n	iCalendar\n\n									\n	Outlook 365\n\n									\n	Outlook Live\n\n							\n		\n\n		\n	\n\n				\n				\n				\n				\n									More info Karol’s concert will feature works by J. S. Bach\, improvisations and the entire Fifth Symphony by Charles-Marie Widor.								\n				\n				\n				\n					\n	\n	Website:	\n	https://ecclesorganfestival.weebly.com/20260208-mossakowski.html\n\n				\n				\n				\n		\n				\n				\n					\n				\n				\n	\n	Cathedral of the Madeleine\n	\n	\n\n331 E South Temple St\n	\n		\n		Salt Lake City\,\n\n	UT\n\n\n	United States\n\n\n\n\n	+ Google Map \n\n\n	\n					\n						\n	 \n\n\n	\n	 \n\n\n\n	\n\n\n\n		\n	\n				\n				\n				\n				\n					\n				\n		\n					\n				\n				\n							\n			\n						\n		\n						\n				\n					\n				\n		\n					\n				\n				\n					\n	\n		\n\n				Karol Mossakowski Meet-and-Greet	\n\n\n		\n	\n		Organ + One with UVAGO
URL:https://slcago.org/event/eccles-organ-festival-karol-mussokowski/
LOCATION:Cathedral of the Madeleine\, 331 E South Temple St\, Salt Lake City\, UT\, United States
CATEGORIES:Concerts & Recitals
ATTACH;FMTTYPE=image/jpeg:https://slcago.org/wp-content/uploads/2025/12/Karol-Mossakowski-S-Sulpice-©-Marie-Rolland--e1767027290556.jpg
END:VEVENT
END:VCALENDAR