BEGIN:VCALENDAR
VERSION:2.0
PRODID:-//The Official Site of the Salt Lake City AGO - ECPv6.15.20//NONSGML v1.0//EN
CALSCALE:GREGORIAN
METHOD:PUBLISH
X-WR-CALNAME:The Official Site of the Salt Lake City AGO
X-ORIGINAL-URL:https://slcago.org
X-WR-CALDESC:Events for The Official Site of the Salt Lake City AGO
REFRESH-INTERVAL;VALUE=DURATION:PT1H
X-Robots-Tag:noindex
X-PUBLISHED-TTL:PT1H
BEGIN:VTIMEZONE
TZID:America/Denver
BEGIN:DAYLIGHT
TZOFFSETFROM:-0700
TZOFFSETTO:-0600
TZNAME:MDT
DTSTART:20250309T090000
END:DAYLIGHT
BEGIN:STANDARD
TZOFFSETFROM:-0600
TZOFFSETTO:-0700
TZNAME:MST
DTSTART:20251102T080000
END:STANDARD
BEGIN:DAYLIGHT
TZOFFSETFROM:-0700
TZOFFSETTO:-0600
TZNAME:MDT
DTSTART:20260308T090000
END:DAYLIGHT
BEGIN:STANDARD
TZOFFSETFROM:-0600
TZOFFSETTO:-0700
TZNAME:MST
DTSTART:20261101T080000
END:STANDARD
BEGIN:DAYLIGHT
TZOFFSETFROM:-0700
TZOFFSETTO:-0600
TZNAME:MDT
DTSTART:20270314T090000
END:DAYLIGHT
BEGIN:STANDARD
TZOFFSETFROM:-0600
TZOFFSETTO:-0700
TZNAME:MST
DTSTART:20271107T080000
END:STANDARD
END:VTIMEZONE
BEGIN:VEVENT
DTSTART;TZID=America/Denver:20260426T153000
DTEND;TZID=America/Denver:20260426T170000
DTSTAMP:20260425T201026
CREATED:20260425T223113Z
LAST-MODIFIED:20260425T223450Z
UID:9994-1777217400-1777222800@slcago.org
SUMMARY:Hilltop Methodist Church Organ Dedication Recital
DESCRIPTION:Sunday\, April 26\n\n	\n\n	  @  \n\n\n3:30 PM\n\n		\n\n\n\n	\n	  -  \n\n5:00 PM\n\n\n\n	\n				\n				\n				\n				\n					Organ Dedication Recital				\n				\n				\n				\n							\n			\n						\n		\n						\n				\n				\n				\n					\n	\n	Date & Time:	\n			Sunday\, April 26\n\n	\n\n	  @  \n\n\n3:30 PM\n\n		\n\n\n\n	\n	  -  \n\n5:00 PM\n\n\n\n	\n				\n				\n				\n				\n				\n							\n			\n						\n		\n						\n				\n					\n				\n		\n					\n		\n		\n				\n				\n					Hilltop United Methodist Church				\n				\n				\n				\n									Organ dedication concert with Allen Organ Artist Ken Mervine. He will perform selections on Hilltop’s new Allen GX-336 organ. In addition\, several vocal numbers will be performed by Barbara Mervine\, accompanied by Ken.   								\n				\n				\n				\n					\n	\n		\n\n	\n	Add to calendar	\n		\n	\n\n		\n			\n									\n	Google Calendar\n\n									\n	iCalendar\n\n									\n	Outlook 365\n\n									\n	Outlook Live\n\n							\n		\n\n		\n	\n\n				\n				\n				\n				\n					\n				\n				\n	\n	Hilltop United Methodist Church\n	\n	\n\n985 E 10600 S\n	\n		\n		Sandy\,\n\n	Utah\n\n\n\n\n\n\n	+ Google Map \n\n\n	\n					\n						\n	 \n\n\n	\n	 \n\n\n\n	\n\n\n\n		\n	\n				\n				\n				\n				\n					\n				\n		\n					\n				\n				\n							\n			\n						\n		\n						\n				\n					\n				\n		\n					\n				\n				\n					\n	\n		\n\n				Salt Lake Symphonic Choir ft. Fauré's Requiem	\n\n\n		\n	\n		UU Organ Area Recitals
URL:https://slcago.org/event/hilltop-methodist-church-organ-dedication-recital/
LOCATION:Hilltop United Methodist Church\, 985 E 10600 S\, Sandy\, Utah
ATTACH;FMTTYPE=image/jpeg:https://slcago.org/wp-content/uploads/2026/02/SS2026-Header-photo-hands-on-organ-keyboard.jpg
END:VEVENT
END:VCALENDAR