BEGIN:VCALENDAR
VERSION:2.0
PRODID:-//The Official Site of the Salt Lake City AGO - ECPv6.15.20//NONSGML v1.0//EN
CALSCALE:GREGORIAN
METHOD:PUBLISH
X-WR-CALNAME:The Official Site of the Salt Lake City AGO
X-ORIGINAL-URL:https://slcago.org
X-WR-CALDESC:Events for The Official Site of the Salt Lake City AGO
REFRESH-INTERVAL;VALUE=DURATION:PT1H
X-Robots-Tag:noindex
X-PUBLISHED-TTL:PT1H
BEGIN:VTIMEZONE
TZID:America/Denver
BEGIN:DAYLIGHT
TZOFFSETFROM:-0700
TZOFFSETTO:-0600
TZNAME:MDT
DTSTART:20250309T090000
END:DAYLIGHT
BEGIN:STANDARD
TZOFFSETFROM:-0600
TZOFFSETTO:-0700
TZNAME:MST
DTSTART:20251102T080000
END:STANDARD
BEGIN:DAYLIGHT
TZOFFSETFROM:-0700
TZOFFSETTO:-0600
TZNAME:MDT
DTSTART:20260308T090000
END:DAYLIGHT
BEGIN:STANDARD
TZOFFSETFROM:-0600
TZOFFSETTO:-0700
TZNAME:MST
DTSTART:20261101T080000
END:STANDARD
BEGIN:DAYLIGHT
TZOFFSETFROM:-0700
TZOFFSETTO:-0600
TZNAME:MDT
DTSTART:20270314T090000
END:DAYLIGHT
BEGIN:STANDARD
TZOFFSETFROM:-0600
TZOFFSETTO:-0700
TZNAME:MST
DTSTART:20271107T080000
END:STANDARD
END:VTIMEZONE
BEGIN:VEVENT
DTSTART;TZID=America/Denver:20260423T190000
DTEND;TZID=America/Denver:20260423T210000
DTSTAMP:20260423T074302
CREATED:20260417T195218Z
LAST-MODIFIED:20260417T205432Z
UID:9957-1776970800-1776978000@slcago.org
SUMMARY:Jessie Bladen\, USU Student\, Recital
DESCRIPTION:Thursday\, April 23\n\n	\n\n	  @  \n\n\n7:00 PM\n\n		\n\n\n\n	\n	  -  \n\n9:00 PM\n\n\n\n	\n				\n				\n				\n				\n																														\n				\n				\n				\n					Jessie Bladen\, Recital				\n				\n				\n				\n							\n			\n						\n		\n						\n				\n				\n				\n					\n	\n	Date & Time:	\n			Thursday\, April 23\n\n	\n\n	  @  \n\n\n7:00 PM\n\n		\n\n\n\n	\n	  -  \n\n9:00 PM\n\n\n\n	\n				\n				\n				\n				\n				\n							\n			\n						\n		\n						\n				\n					\n				\n		\n					\n		\n		\n				\n				\n					Utah State University organ student recital				\n				\n				\n				\n					\n	\n		\n\n	\n	Add to calendar	\n		\n	\n\n		\n			\n									\n	Google Calendar\n\n									\n	iCalendar\n\n									\n	Outlook 365\n\n									\n	Outlook Live\n\n							\n		\n\n		\n	\n\n				\n				\n				\n				\n					\n				\n				\n	\n	Logan Tabernacle\n	\n	\n\n50 North Main Street\n	\n		\n		Logan\,\n\n	UT\n\n	84321\n\n	United States\n\n\n\n\n	+ Google Map \n\n\n	\n					\n						\n	 \n\n\n	\n	 \n\n\n\n	\n\n\n\n		\n	\n				\n				\n				\n		\n				\n				\n									More info Come hear Jessie Bladen play works by Emma Lou Diemer\, J.S. Bach\, Felix Mendelssohn\, Neil Harmon\, and Louis Vierne.  Jessie is a student of Dr Shelby Fisher at Utah State University. 								\n				\n				\n				\n					\n				\n		\n					\n				\n				\n					\n	\n		\n\n				Jared Gardiner Plays Benefit Concert	\n\n\n		\n	\n		UVAGO Super Saturday 2026
URL:https://slcago.org/event/jessie-bladen-usu-student-recital/
LOCATION:Logan Tabernacle\, 50 North Main Street\, Logan\, UT\, 84321\, United States
ATTACH;FMTTYPE=image/jpeg:https://slcago.org/wp-content/uploads/2026/04/Logan-Tabernacle-outside-scaled.jpeg
END:VEVENT
END:VCALENDAR