BEGIN:VCALENDAR
VERSION:2.0
PRODID:-//The Official Site of the Salt Lake City AGO - ECPv6.15.20//NONSGML v1.0//EN
CALSCALE:GREGORIAN
METHOD:PUBLISH
X-WR-CALNAME:The Official Site of the Salt Lake City AGO
X-ORIGINAL-URL:https://slcago.org
X-WR-CALDESC:Events for The Official Site of the Salt Lake City AGO
REFRESH-INTERVAL;VALUE=DURATION:PT1H
X-Robots-Tag:noindex
X-PUBLISHED-TTL:PT1H
BEGIN:VTIMEZONE
TZID:America/Denver
BEGIN:DAYLIGHT
TZOFFSETFROM:-0700
TZOFFSETTO:-0600
TZNAME:MDT
DTSTART:20240310T090000
END:DAYLIGHT
BEGIN:STANDARD
TZOFFSETFROM:-0600
TZOFFSETTO:-0700
TZNAME:MST
DTSTART:20241103T080000
END:STANDARD
BEGIN:DAYLIGHT
TZOFFSETFROM:-0700
TZOFFSETTO:-0600
TZNAME:MDT
DTSTART:20250309T090000
END:DAYLIGHT
BEGIN:STANDARD
TZOFFSETFROM:-0600
TZOFFSETTO:-0700
TZNAME:MST
DTSTART:20251102T080000
END:STANDARD
BEGIN:DAYLIGHT
TZOFFSETFROM:-0700
TZOFFSETTO:-0600
TZNAME:MDT
DTSTART:20260308T090000
END:DAYLIGHT
BEGIN:STANDARD
TZOFFSETFROM:-0600
TZOFFSETTO:-0700
TZNAME:MST
DTSTART:20261101T080000
END:STANDARD
END:VTIMEZONE
BEGIN:VEVENT
DTSTART;TZID=America/Denver:20251108T153000
DTEND;TZID=America/Denver:20251108T170000
DTSTAMP:20260423T122034
CREATED:20250918T032445Z
LAST-MODIFIED:20250921T205104Z
UID:8091-1762615800-1762621200@slcago.org
SUMMARY:Meet Emma Whitten
DESCRIPTION:Date & Time:	\n			Saturday\, November 8\n\n	\n\n	  @  \n\n\n3:30 PM\n\n		\n\n\n\n	\n	  -  \n\n5:00 PM\n\n\n\n	\n				\n				\n				\n				\n					Meet Emma Whitten!				\n				\n				\n				\n									\n					\n						\n									SIGN UP HERE\n					\n					\n				\n								\n				\n				\n				\n																														\n				\n				\n				\n					\n	\n		\n\n	\n	Add to calendar	\n		\n	\n\n		\n			\n									\n	Google Calendar\n\n									\n	iCalendar\n\n									\n	Outlook 365\n\n									\n	Outlook Live\n\n							\n		\n\n		\n	\n\n				\n				\n				\n		\n				\n				\n					Meet & Greet for Young Organists				\n				\n				\n				\n									Young organists (ages 18-30) can meet Emma Whitten before she performs for the Eccles Organ Festival.Space is limited so sign up below.								\n				\n				\n				\n																														\n				\n				\n				\n					\n				\n		\n					\n		\n				\n				\n							\n			\n		\n						\n				\n				\n					\n				\n		\n					\n				\n				\n							\n			\n						\n		\n						\n				\n					\n				\n		\n					\n				\n				\n									more info/photo credits 								\n				\n				\n				\n					\n	\n		\n\n				PPP 2025	\n\n\n		\n	\n		Hymn Sing and Pie Social 2025
URL:https://slcago.org/event/meet-emma-whitten/
LOCATION:Cathedral of the Madeleine\, 331 E South Temple St\, Salt Lake City\, UT\, United States
ATTACH;FMTTYPE=image/jpeg:https://slcago.org/wp-content/uploads/2025/01/Madeleine-en-chamades-scaled.jpeg
ORGANIZER;CN="Mark Atencio":MAILTO:mark@slcago.org
END:VEVENT
END:VCALENDAR