BEGIN:VCALENDAR
VERSION:2.0
PRODID:-//The Official Site of the Salt Lake City AGO - ECPv6.15.20//NONSGML v1.0//EN
CALSCALE:GREGORIAN
METHOD:PUBLISH
X-WR-CALNAME:The Official Site of the Salt Lake City AGO
X-ORIGINAL-URL:https://slcago.org
X-WR-CALDESC:Events for The Official Site of the Salt Lake City AGO
REFRESH-INTERVAL;VALUE=DURATION:PT1H
X-Robots-Tag:noindex
X-PUBLISHED-TTL:PT1H
BEGIN:VTIMEZONE
TZID:America/Denver
BEGIN:DAYLIGHT
TZOFFSETFROM:-0700
TZOFFSETTO:-0600
TZNAME:MDT
DTSTART:20240310T090000
END:DAYLIGHT
BEGIN:STANDARD
TZOFFSETFROM:-0600
TZOFFSETTO:-0700
TZNAME:MST
DTSTART:20241103T080000
END:STANDARD
BEGIN:DAYLIGHT
TZOFFSETFROM:-0700
TZOFFSETTO:-0600
TZNAME:MDT
DTSTART:20250309T090000
END:DAYLIGHT
BEGIN:STANDARD
TZOFFSETFROM:-0600
TZOFFSETTO:-0700
TZNAME:MST
DTSTART:20251102T080000
END:STANDARD
BEGIN:DAYLIGHT
TZOFFSETFROM:-0700
TZOFFSETTO:-0600
TZNAME:MDT
DTSTART:20260308T090000
END:DAYLIGHT
BEGIN:STANDARD
TZOFFSETFROM:-0600
TZOFFSETTO:-0700
TZNAME:MST
DTSTART:20261101T080000
END:STANDARD
END:VTIMEZONE
BEGIN:VEVENT
DTSTART;TZID=America/Denver:20250904T190000
DTEND;TZID=America/Denver:20250904T210000
DTSTAMP:20260423T133410
CREATED:20250527T194800Z
LAST-MODIFIED:20250622T182821Z
UID:6548-1757012400-1757019600@slcago.org
SUMMARY:Member Appreciation Open Console 2025
DESCRIPTION:Date & Time:	\n			Thursday\, September 4\, 2025\n\n	\n\n	  @  \n\n\n7:00 PM\n\n		\n\n\n\n	\n	  -  \n\n9:00 PM\n\n\n\n	\n				\n				\n				\n				\n									Join us at the Cathedral of the Madeleine for a “Members Only” event 								\n				\n				\n				\n									\n					\n						\n									SIGN UP HERE\n					\n					\n				\n								\n				\n				\n				\n									As a thank you gift for your AGO membership\, current members have the opportunity to play the 1992 Kenneth Jones organ.The four-manual\, 77/79 rank mechanical action English-style organ boasts an impressive en chamade division of trumpets capable of announcing the second coming. 								\n				\n					\n		\n				\n			\n						\n				\n																														\n				\n					\n		\n					\n		\n				\n						\n					\n			\n						\n				\n																														\n				\n					\n		\n				\n			\n						\n				\n									Assisted by Cathedral organist Gabriele Terrone\, members can experience the instrument first-hand. Join the AGO or renew your membership now to participate in this event! 								\n				\n				\n				\n									\n					\n						\n									Join/Renew Membership\n					\n					\n				\n								\n				\n					\n		\n					\n		\n					\n		\n					\n		\n				\n							\n							\n					\n			\n						\n				\n					CLICK HERE to sign-up to play in this event				\n				\n					\n		\n					\n		\n				\n						\n					\n			\n						\n				\n							\n			\n						\n		\n						\n				\n				\n				\n					\n	\n	Venue			\n				\n	\n	Cathedral of the Madeleine\n	\n	\n\n331 E South Temple St\n	\n		\n		Salt Lake City\,\n\n	UT\n\n\n	United States\n\n\n\n\n	+ Google Map \n\n\n	\n					\n						\n	 \n\n\n	\n	 \n\n\n\n	\n\n\n\n		\n	\n				\n				\n				\n				\n					\n	\n	Organizer\n	Shelby Fisher\n	\n	\n	Email:\n					\n			dean@slcago.org			\n	 \n\n\n\n				\n				\n					\n		\n					\n		\n				\n						\n					\n			\n						\n				\n					\n	\n		\n\n	\n	Add to calendar	\n		\n	\n\n		\n			\n									\n	Google Calendar\n\n									\n	iCalendar\n\n									\n	Outlook 365\n\n									\n	Outlook Live\n\n							\n		\n\n		\n	\n\n				\n				\n				\n				\n					\n	\n		\n\n				Benefit Concert for New Pipe Organ	\n\n\n		\n	\n		U of U Open Console & Organ Crawl 25th Anniversary
URL:https://slcago.org/event/member-appreciation-open-console/
LOCATION:Cathedral of the Madeleine\, 331 E South Temple St\, Salt Lake City\, UT\, United States
CATEGORIES:Concerts & Recitals
ATTACH;FMTTYPE=image/jpeg:https://slcago.org/wp-content/uploads/2025/01/Madeleine-en-chamades-scaled.jpeg
ORGANIZER;CN="Shelby Fisher":MAILTO:dean@slcago.org
END:VEVENT
END:VCALENDAR