BEGIN:VCALENDAR
VERSION:2.0
PRODID:-//The Official Site of the Salt Lake City AGO - ECPv6.15.20//NONSGML v1.0//EN
CALSCALE:GREGORIAN
METHOD:PUBLISH
X-WR-CALNAME:The Official Site of the Salt Lake City AGO
X-ORIGINAL-URL:https://slcago.org
X-WR-CALDESC:Events for The Official Site of the Salt Lake City AGO
REFRESH-INTERVAL;VALUE=DURATION:PT1H
X-Robots-Tag:noindex
X-PUBLISHED-TTL:PT1H
BEGIN:VTIMEZONE
TZID:America/Denver
BEGIN:DAYLIGHT
TZOFFSETFROM:-0700
TZOFFSETTO:-0600
TZNAME:MDT
DTSTART:20250309T090000
END:DAYLIGHT
BEGIN:STANDARD
TZOFFSETFROM:-0600
TZOFFSETTO:-0700
TZNAME:MST
DTSTART:20251102T080000
END:STANDARD
BEGIN:DAYLIGHT
TZOFFSETFROM:-0700
TZOFFSETTO:-0600
TZNAME:MDT
DTSTART:20260308T090000
END:DAYLIGHT
BEGIN:STANDARD
TZOFFSETFROM:-0600
TZOFFSETTO:-0700
TZNAME:MST
DTSTART:20261101T080000
END:STANDARD
BEGIN:DAYLIGHT
TZOFFSETFROM:-0700
TZOFFSETTO:-0600
TZNAME:MDT
DTSTART:20270314T090000
END:DAYLIGHT
BEGIN:STANDARD
TZOFFSETFROM:-0600
TZOFFSETTO:-0700
TZNAME:MST
DTSTART:20271107T080000
END:STANDARD
END:VTIMEZONE
BEGIN:VEVENT
DTSTART;TZID=America/Denver:20260821T190000
DTEND;TZID=America/Denver:20260821T203000
DTSTAMP:20260423T080050
CREATED:20260126T012210Z
LAST-MODIFIED:20260131T222151Z
UID:9246-1787338800-1787344200@slcago.org
SUMMARY:Seth Bott Plays Benefit Concert
DESCRIPTION:Friday\, August 21\n\n	\n\n	  @  \n\n\n7:00 PM\n\n		\n\n\n\n	\n	  -  \n\n8:30 PM\n\n\n\n	\n				\n				\n				\n				\n																														\n				\n				\n				\n					Benefit Concert featuring Seth Bott				\n				\n				\n				\n							\n			\n						\n		\n						\n				\n				\n				\n					\n	\n	Date & Time:	\n			Friday\, August 21\n\n	\n\n	  @  \n\n\n7:00 PM\n\n		\n\n\n\n	\n	  -  \n\n8:30 PM\n\n\n\n	\n				\n				\n				\n				\n				\n							\n			\n						\n		\n						\n				\n					\n				\n		\n					\n		\n		\n				\n				\n					Support the new organ fund!				\n				\n				\n				\n																														\n				\n				\n		\n				\n				\n									Bountiful Community Church is hosting a benefit concert to fund a new pipe organ! Come listen to organist Sett Bott perform various organ works.  Suggested donation for the concert is $5. Cash\, checks\, venmo\, or credit cards are accepted for the popcorn and snackin’ fundraiser!								\n				\n				\n				\n					\n				\n				\n	\n	Bountiful Community Church\n	\n	\n\n150 N 400 E\n	\n		\n		Bountiful\,\n\n	UT\n\n	84010\n\n	United States\n\n\n\n\n	+ Google Map \n\n\n	\n					\n						\n	 \n\n\n	\n	View Venue Website \n\n\n\n	\n\n\n\n		\n	\n				\n				\n				\n				\n					\n	\n		\n\n	\n	Add to calendar	\n		\n	\n\n		\n			\n									\n	Google Calendar\n\n									\n	iCalendar\n\n									\n	Outlook 365\n\n									\n	Outlook Live\n\n							\n		\n\n		\n	\n\n				\n				\n				\n				\n					\n				\n		\n					\n				\n				\n							\n			\n						\n		\n						\n				\n					\n				\n		\n					\n				\n				\n					\n	\n		\n\n				Rulon Christiansen Plays Benefit Concert	\n\n\n		\n	\n		Kenneth Udy Plays in Tabernacle Organ Virtuoso Performance Series
URL:https://slcago.org/event/seth-bott-plays-benefit-concert/
LOCATION:Bountiful Community Church\, 150 N 400 E\, Bountiful\, UT\, 84010\, United States
CATEGORIES:Concerts & Recitals
ATTACH;FMTTYPE=image/jpeg:https://slcago.org/wp-content/uploads/2026/01/BCC-console-e1769389400126.jpg
END:VEVENT
END:VCALENDAR