BEGIN:VCALENDAR
VERSION:2.0
PRODID:-//The Official Site of the Salt Lake City AGO - ECPv6.15.20//NONSGML v1.0//EN
CALSCALE:GREGORIAN
METHOD:PUBLISH
X-WR-CALNAME:The Official Site of the Salt Lake City AGO
X-ORIGINAL-URL:https://slcago.org
X-WR-CALDESC:Events for The Official Site of the Salt Lake City AGO
REFRESH-INTERVAL;VALUE=DURATION:PT1H
X-Robots-Tag:noindex
X-PUBLISHED-TTL:PT1H
BEGIN:VTIMEZONE
TZID:America/Denver
BEGIN:DAYLIGHT
TZOFFSETFROM:-0700
TZOFFSETTO:-0600
TZNAME:MDT
DTSTART:20250309T090000
END:DAYLIGHT
BEGIN:STANDARD
TZOFFSETFROM:-0600
TZOFFSETTO:-0700
TZNAME:MST
DTSTART:20251102T080000
END:STANDARD
BEGIN:DAYLIGHT
TZOFFSETFROM:-0700
TZOFFSETTO:-0600
TZNAME:MDT
DTSTART:20260308T090000
END:DAYLIGHT
BEGIN:STANDARD
TZOFFSETFROM:-0600
TZOFFSETTO:-0700
TZNAME:MST
DTSTART:20261101T080000
END:STANDARD
BEGIN:DAYLIGHT
TZOFFSETFROM:-0700
TZOFFSETTO:-0600
TZNAME:MDT
DTSTART:20270314T090000
END:DAYLIGHT
BEGIN:STANDARD
TZOFFSETFROM:-0600
TZOFFSETTO:-0700
TZNAME:MST
DTSTART:20271107T080000
END:STANDARD
END:VTIMEZONE
BEGIN:VEVENT
DTSTART;TZID=America/Denver:20260318T183000
DTEND;TZID=America/Denver:20260318T200000
DTSTAMP:20260423T093040
CREATED:20260128T220339Z
LAST-MODIFIED:20260131T182308Z
UID:9298-1773858600-1773864000@slcago.org
SUMMARY:Shelby Fisher Book Signing
DESCRIPTION:Wednesday\, March 18\n\n	\n\n	  @  \n\n\n6:30 PM\n\n		\n\n\n\n	\n	  -  \n\n8:00 PM\n\n\n\n	\n				\n				\n				\n				\n					Tracy Y. Cannon Book Signing				\n				\n				\n				\n					\n	\n	Date & Time:	\n			Wednesday\, March 18\n\n	\n\n	  @  \n\n\n6:30 PM\n\n		\n\n\n\n	\n	  -  \n\n8:00 PM\n\n\n\n	\n				\n				\n				\n				\n					Shelby Fisher\, Author				\n				\n				\n				\n							\n			\n		\n						\n				\n		\n				\n				\n									SLCAGO Dean Shelby Fisher will discuss her book Tracy Y. Cannon: Tabernacle Organist and Pioneering Musician during a meet-and-greet at Signature Books in Salt Lake City\, Utah. Cannon’s career includes organst at the Salt Lake Tabernacle and Music and the Spoken Word broadcast. He was also the leader of the McCune School of Music and Art and brought notoriety to its academic excellence. 								\n				\n				\n				\n									\n					\n						\n						\n							\n									Purchase book here\n					\n					\n				\n								\n				\n				\n				\n									Cannon’s musical tastes are described as dignified\, refined\, reverent. The heavy influences of Northern European musical tradition on his works became the norm for Latter-day Saint congregations for generations. Dr. Fisher will discuss Cannon’s role in guiding the musical voice of Mormonism and answer questions from the audience.								\n				\n				\n				\n				\n		\n					\n				\n				\n					\n				\n				\n	\n	Signature Books\n	\n	\n\n508 W 400 N\n	\n		\n		Salt Lake City\,\n\n	UT\n\n\n	United States\n\n\n\n\n	+ Google Map \n\n\n	\n					\n						\n	 \n\n\n	\n	 \n\n\n\n	\n\n\n\n		\n	\n				\n				\n				\n				\n					\n	\n		\n\n	\n	Add to calendar	\n		\n	\n\n		\n			\n									\n	Google Calendar\n\n									\n	iCalendar\n\n									\n	Outlook 365\n\n									\n	Outlook Live\n\n							\n		\n\n		\n	\n\n				\n				\n					\n				\n		\n					\n				\n				\n							\n			\n						\n		\n						\n				\n					\n				\n		\n					\n				\n				\n					\n	\n		\n\n				Eccles Organ Festival Julian Petrallia	\n\n\n		\n	\n		Closing Social 2026
URL:https://slcago.org/event/shelby-fisher-book-signing/
LOCATION:Signature Books\, 508 W 400 N\, Salt Lake City\, UT\, United States
CATEGORIES:Concerts & Recitals
ATTACH;FMTTYPE=image/jpeg:https://slcago.org/wp-content/uploads/2025/02/cannon-e1769631830190.jpg
ORGANIZER;CN="Shelby Fisher":MAILTO:dean@slcago.org
END:VEVENT
END:VCALENDAR