BEGIN:VCALENDAR
VERSION:2.0
PRODID:-//The Official Site of the Salt Lake City AGO - ECPv6.15.20//NONSGML v1.0//EN
CALSCALE:GREGORIAN
METHOD:PUBLISH
X-WR-CALNAME:The Official Site of the Salt Lake City AGO
X-ORIGINAL-URL:https://slcago.org
X-WR-CALDESC:Events for The Official Site of the Salt Lake City AGO
REFRESH-INTERVAL;VALUE=DURATION:PT1H
X-Robots-Tag:noindex
X-PUBLISHED-TTL:PT1H
BEGIN:VTIMEZONE
TZID:America/Denver
BEGIN:DAYLIGHT
TZOFFSETFROM:-0700
TZOFFSETTO:-0600
TZNAME:MDT
DTSTART:20250309T090000
END:DAYLIGHT
BEGIN:STANDARD
TZOFFSETFROM:-0600
TZOFFSETTO:-0700
TZNAME:MST
DTSTART:20251102T080000
END:STANDARD
BEGIN:DAYLIGHT
TZOFFSETFROM:-0700
TZOFFSETTO:-0600
TZNAME:MDT
DTSTART:20260308T090000
END:DAYLIGHT
BEGIN:STANDARD
TZOFFSETFROM:-0600
TZOFFSETTO:-0700
TZNAME:MST
DTSTART:20261101T080000
END:STANDARD
BEGIN:DAYLIGHT
TZOFFSETFROM:-0700
TZOFFSETTO:-0600
TZNAME:MDT
DTSTART:20270314T090000
END:DAYLIGHT
BEGIN:STANDARD
TZOFFSETFROM:-0600
TZOFFSETTO:-0700
TZNAME:MST
DTSTART:20271107T080000
END:STANDARD
END:VTIMEZONE
BEGIN:VEVENT
DTSTART;TZID=America/Denver:20260425T080000
DTEND;TZID=America/Denver:20260425T123000
DTSTAMP:20260423T074302
CREATED:20260417T200543Z
LAST-MODIFIED:20260417T201752Z
UID:9966-1777104000-1777120200@slcago.org
SUMMARY:UVAGO Super Saturday 2026
DESCRIPTION:Saturday\, April 25\n\n	\n\n	  @  \n\n\n8:00 AM\n\n		\n\n\n\n	\n	  -  \n\n12:30 PM\n\n\n\n	\n				\n				\n				\n				\n																														\n				\n				\n				\n					UVAGO Super Saturday				\n				\n				\n				\n							\n			\n						\n		\n						\n				\n				\n				\n					\n	\n	Date & Time:	\n			Saturday\, April 25\n\n	\n\n	  @  \n\n\n8:00 AM\n\n		\n\n\n\n	\n	  -  \n\n12:30 PM\n\n\n\n	\n				\n				\n				\n				\n				\n							\n			\n						\n		\n						\n				\n					\n				\n		\n					\n		\n		\n				\n				\n									\n					\n						\n									Register here or scan QR code below\n					\n					\n				\n								\n				\n				\n				\n																														\n				\n				\n				\n					\n	\n		\n\n	\n	Add to calendar	\n		\n	\n\n		\n			\n									\n	Google Calendar\n\n									\n	iCalendar\n\n									\n	Outlook 365\n\n									\n	Outlook Live\n\n							\n		\n\n		\n	\n\n				\n				\n				\n		\n				\n				\n									More infoBasic organ registrationIntroduction to the organ/consoleIntroduction to hymn playingAdvanced hymn playingMaking your own preludes/postludesFundamentals of pedal techniqueFundamentals of manual techniquePlaying piano arrangements on the organ								\n				\n				\n				\n					\n				\n				\n	\n	\n	\n\n1138 W 100 S\n	\n		\n		Spanish Fork\,\n\n	UT\n\n	84660\n\n	United States\n\n\n\n\n	+ Google Map \n\n\n	\n					\n						\n	 \n\n\n	\n	 \n\n\n\n	\n\n\n\n		\n	\n				\n				\n				\n				\n					\n				\n		\n					\n				\n				\n					\n	\n		\n\n				Jessie Bladen\, USU Student\, Recital	\n\n\n		\n	\n		Salt Lake Symphonic Choir ft. Fauré's Requiem
URL:https://slcago.org/event/uvago-super-saturday-2026/
LOCATION:stake\, 1138 W 100 S\, Spanish Fork\, UT\, 84660\, United States
ATTACH;FMTTYPE=image/jpeg:https://slcago.org/wp-content/uploads/2026/03/IMG_2786.jpg
END:VEVENT
END:VCALENDAR