BEGIN:VCALENDAR
VERSION:2.0
PRODID:-//The Official Site of the Salt Lake City AGO - ECPv6.15.20//NONSGML v1.0//EN
CALSCALE:GREGORIAN
METHOD:PUBLISH
X-WR-CALNAME:The Official Site of the Salt Lake City AGO
X-ORIGINAL-URL:https://slcago.org
X-WR-CALDESC:Events for The Official Site of the Salt Lake City AGO
REFRESH-INTERVAL;VALUE=DURATION:PT1H
X-Robots-Tag:noindex
X-PUBLISHED-TTL:PT1H
BEGIN:VTIMEZONE
TZID:America/Denver
BEGIN:DAYLIGHT
TZOFFSETFROM:-0700
TZOFFSETTO:-0600
TZNAME:MDT
DTSTART:20240310T090000
END:DAYLIGHT
BEGIN:STANDARD
TZOFFSETFROM:-0600
TZOFFSETTO:-0700
TZNAME:MST
DTSTART:20241103T080000
END:STANDARD
BEGIN:DAYLIGHT
TZOFFSETFROM:-0700
TZOFFSETTO:-0600
TZNAME:MDT
DTSTART:20250309T090000
END:DAYLIGHT
BEGIN:STANDARD
TZOFFSETFROM:-0600
TZOFFSETTO:-0700
TZNAME:MST
DTSTART:20251102T080000
END:STANDARD
BEGIN:DAYLIGHT
TZOFFSETFROM:-0700
TZOFFSETTO:-0600
TZNAME:MDT
DTSTART:20260308T090000
END:DAYLIGHT
BEGIN:STANDARD
TZOFFSETFROM:-0600
TZOFFSETTO:-0700
TZNAME:MST
DTSTART:20261101T080000
END:STANDARD
END:VTIMEZONE
BEGIN:VEVENT
DTSTART;TZID=America/Denver:20250210T200000
DTEND;TZID=America/Denver:20250210T220000
DTSTAMP:20260424T095259
CREATED:20250208T212025Z
LAST-MODIFIED:20250306T233858Z
UID:5401-1739217600-1739224800@slcago.org
SUMMARY:Organ Concert Agnieszka Rybak-Pitrowska
DESCRIPTION:Saturday\, April 25\n\n	\n\n	  @  \n\n\n7:30 PM\n\n		\n\n\n\n	\n	  -  \n\n9:30 PM\n\n\n\n	\n				\n				\n				\n				\n																														\n				\n				\n				\n					Salt Lake Symphonic Choir Annual Spring Concert				\n				\n				\n				\n							\n			\n						\n		\n						\n				\n				\n				\n					\n	\n	Date & Time:	\n			Saturday\, April 25\n\n	\n\n	  @  \n\n\n7:30 PM\n\n		\n\n\n\n	\n	  -  \n\n9:30 PM\n\n\n\n	\n				\n				\n				\n				\n				\n							\n			\n						\n		\n						\n				\n					\n				\n		\n					\n		\n		\n				\n				\n									Featured Organist: Dr. Seth Bott								\n				\n				\n				\n																														\n				\n				\n				\n					\n	\n		\n\n	\n	Add to calendar	\n		\n	\n\n		\n			\n									\n	Google Calendar\n\n									\n	iCalendar\n\n									\n	Outlook 365\n\n									\n	Outlook Live\n\n							\n		\n\n		\n	\n\n				\n				\n				\n		\n				\n				\n									Join the choir for a night of hopeful selections to invite contemplation and reinvigoration. Selections include Communion\, Ballad to the Moon\, and The 105th Psalm- all paying homage to the theme.  With the Requiem calling for Organ accompaniment\, First Presbyterian was the ideal location to feature Dr. Seth Bott on the Organ. It’s bound to be a thrilling night of beautiful music.  								\n				\n				\n				\n									\n					\n						\n									Buy tickets here\n					\n					\n				\n								\n				\n				\n				\n					\n				\n				\n	\n	First Presbyterian Church\n	\n	\n\n12 C Street East\n	\n		\n		Salt Lake City\,\n\n	Utah\n\n	84103\n\n	United States\n\n\n\n\n	+ Google Map \n\n\n	\n					\n						\n	 \n\n\n	\n	View Venue Website \n\n\n\n	\n\n\n\n		\n	\n				\n				\n				\n				\n					\n				\n		\n					\n				\n				\n					\n	\n		\n\n				UVAGO Super Saturday 2026	\n\n\n		\n	\n		UU Organ Area Recitals
URL:https://slcago.org/event/organ-concert-agnieszka-rybak-pitrowska/
LOCATION:St. Ambrose Catholic Church\, 2315 East Redondo Avenue\, Salt Lake City\, Utah\, United States
ATTACH;FMTTYPE=image/png:https://slcago.org/wp-content/uploads/2025/02/Agnieszka20Rybak-Piotrowska.CV202017.png
END:VEVENT
END:VCALENDAR