BEGIN:VCALENDAR
VERSION:2.0
PRODID:-//The Official Site of the Salt Lake City AGO - ECPv6.15.20//NONSGML v1.0//EN
CALSCALE:GREGORIAN
METHOD:PUBLISH
X-ORIGINAL-URL:https://slcago.org
X-WR-CALDESC:Events for The Official Site of the Salt Lake City AGO
REFRESH-INTERVAL;VALUE=DURATION:PT1H
X-Robots-Tag:noindex
X-PUBLISHED-TTL:PT1H
BEGIN:VTIMEZONE
TZID:America/Denver
BEGIN:DAYLIGHT
TZOFFSETFROM:-0700
TZOFFSETTO:-0600
TZNAME:MDT
DTSTART:20250309T090000
END:DAYLIGHT
BEGIN:STANDARD
TZOFFSETFROM:-0600
TZOFFSETTO:-0700
TZNAME:MST
DTSTART:20251102T080000
END:STANDARD
BEGIN:DAYLIGHT
TZOFFSETFROM:-0700
TZOFFSETTO:-0600
TZNAME:MDT
DTSTART:20260308T090000
END:DAYLIGHT
BEGIN:STANDARD
TZOFFSETFROM:-0600
TZOFFSETTO:-0700
TZNAME:MST
DTSTART:20261101T080000
END:STANDARD
BEGIN:DAYLIGHT
TZOFFSETFROM:-0700
TZOFFSETTO:-0600
TZNAME:MDT
DTSTART:20270314T090000
END:DAYLIGHT
BEGIN:STANDARD
TZOFFSETFROM:-0600
TZOFFSETTO:-0700
TZNAME:MST
DTSTART:20271107T080000
END:STANDARD
END:VTIMEZONE
BEGIN:VEVENT
DTSTART;TZID=America/Denver:20260222T160000
DTEND;TZID=America/Denver:20260222T173000
DTSTAMP:20260423T204100
CREATED:20260125T211254Z
LAST-MODIFIED:20260131T230655Z
UID:9172-1771776000-1771781400@slcago.org
SUMMARY:Britton J. Orwin Recital
DESCRIPTION:Saturday\, May 2\n\n	\n\n	  @  \n\n\n10:00 AM\n\n		\n\n\n\n	\n	  -  \n\n2:30 PM\n\n\n\n	\n				\n				\n				\n				\n																														\n				\n				\n				\n					St John’s Episcopal Church				\n				\n				\n				\n							\n			\n						\n		\n						\n				\n				\n				\n					\n	\n	Date & Time:	\n			Saturday\, May 2\n\n	\n\n	  @  \n\n\n10:00 AM\n\n		\n\n\n\n	\n	  -  \n\n2:30 PM\n\n\n\n	\n				\n				\n				\n				\n				\n							\n			\n						\n		\n						\n				\n					\n				\n		\n					\n		\n		\n				\n				\n					Field Trip to Logan\, Utah!				\n				\n				\n				\n																														\n				\n				\n				\n									Photo Credit: https://www.hjnews.com/news/community/nyc-to-hooper-nacle-to-logan-restored-1963-philharmonic-organ-finds-home-at-st-johns/article_f8b79fe6-5888-4bf0-8b9f-3c531c230c06.html 								\n				\n				\n		\n				\n				\n									More info Join us on Saturday\, May 2nd when we travel to Logan\, Utah\, to visit St John’s Episcopal Church and the Logan Tabernacle.  St. John’s houses two organs and Music Director Jonathan Rose will give a presentation on the history of the church and demonstrate the instruments. Open Console time will be available at St. John’s and on the organ in the Logan Tabernacle. 								\n				\n				\n				\n					\n	\n		\n\n	\n	Add to calendar	\n		\n	\n\n		\n			\n									\n	Google Calendar\n\n									\n	iCalendar\n\n									\n	Outlook 365\n\n									\n	Outlook Live\n\n							\n		\n\n		\n	\n\n				\n				\n				\n				\n					\n				\n		\n					\n		\n		\n				\n				\n																														\n				\n				\n		\n				\n				\n					Agenda				\n				\n				\n				\n									10:00 AMMeet at St Johns 								\n				\n				\n				\n									10:30 aMSt John’s Demonstration of Organs 								\n				\n				\n				\n									11:30 AM Independent LunchOpen Console Sign-ups 								\n				\n				\n				\n									12:00 – 2:30 PM OPEN CONSOLES  St John’s Episcopal Church Organs– Aeolian Skinner with Hauptwerk– Johannus Logan Tabernacle Organ:Ronald Poll Organ 								\n				\n				\n				\n					\n				\n		\n					\n				\n				\n					\n	\n		\n\n				UU Organ Area Recitals	\n\n\n		\n	\n		Clay Christiansen Plays Benefit Concert
URL:https://slcago.org/event/britton-j-orwin-recital/
LOCATION:First Baptist Church of Salt Lake City\, 777 S 1300 E\, Salt Lake City\, UT\, 84102\, United States
CATEGORIES:Concerts & Recitals
ATTACH;FMTTYPE=image/jpeg:https://slcago.org/wp-content/uploads/2026/01/First-Baptist.jpg
END:VEVENT
END:VCALENDAR