BEGIN:VCALENDAR
VERSION:2.0
PRODID:-//The Official Site of the Salt Lake City AGO - ECPv6.15.20//NONSGML v1.0//EN
CALSCALE:GREGORIAN
METHOD:PUBLISH
X-ORIGINAL-URL:https://slcago.org
X-WR-CALDESC:Events for The Official Site of the Salt Lake City AGO
REFRESH-INTERVAL;VALUE=DURATION:PT1H
X-Robots-Tag:noindex
X-PUBLISHED-TTL:PT1H
BEGIN:VTIMEZONE
TZID:America/Denver
BEGIN:DAYLIGHT
TZOFFSETFROM:-0700
TZOFFSETTO:-0600
TZNAME:MDT
DTSTART:20250309T090000
END:DAYLIGHT
BEGIN:STANDARD
TZOFFSETFROM:-0600
TZOFFSETTO:-0700
TZNAME:MST
DTSTART:20251102T080000
END:STANDARD
BEGIN:DAYLIGHT
TZOFFSETFROM:-0700
TZOFFSETTO:-0600
TZNAME:MDT
DTSTART:20260308T090000
END:DAYLIGHT
BEGIN:STANDARD
TZOFFSETFROM:-0600
TZOFFSETTO:-0700
TZNAME:MST
DTSTART:20261101T080000
END:STANDARD
BEGIN:DAYLIGHT
TZOFFSETFROM:-0700
TZOFFSETTO:-0600
TZNAME:MDT
DTSTART:20270314T090000
END:DAYLIGHT
BEGIN:STANDARD
TZOFFSETFROM:-0600
TZOFFSETTO:-0700
TZNAME:MST
DTSTART:20271107T080000
END:STANDARD
END:VTIMEZONE
BEGIN:VEVENT
DTSTART;TZID=America/Denver:20260502T100000
DTEND;TZID=America/Denver:20260502T143000
DTSTAMP:20260423T122612
CREATED:20260309T004957Z
LAST-MODIFIED:20260309T011045Z
UID:9669-1777716000-1777732200@slcago.org
SUMMARY:Chapter Field Trip May 2026
DESCRIPTION:Saturday\, April 25\n\n	\n\n	  @  \n\n\n7:30 PM\n\n		\n\n\n\n	\n	  -  \n\n9:30 PM\n\n\n\n	\n				\n				\n				\n				\n																														\n				\n				\n				\n					Salt Lake Symphonic Choir Annual Spring Concert				\n				\n				\n				\n							\n			\n						\n		\n						\n				\n				\n				\n					\n	\n	Date & Time:	\n			Saturday\, April 25\n\n	\n\n	  @  \n\n\n7:30 PM\n\n		\n\n\n\n	\n	  -  \n\n9:30 PM\n\n\n\n	\n				\n				\n				\n				\n				\n							\n			\n						\n		\n						\n				\n					\n				\n		\n					\n		\n		\n				\n				\n									Featured Organist: Dr. Seth Bott								\n				\n				\n				\n																														\n				\n				\n				\n					\n	\n		\n\n	\n	Add to calendar	\n		\n	\n\n		\n			\n									\n	Google Calendar\n\n									\n	iCalendar\n\n									\n	Outlook 365\n\n									\n	Outlook Live\n\n							\n		\n\n		\n	\n\n				\n				\n				\n		\n				\n				\n									Join the choir for a night of hopeful selections to invite contemplation and reinvigoration. Selections include Communion\, Ballad to the Moon\, and The 105th Psalm- all paying homage to the theme.  With the Requiem calling for Organ accompaniment\, First Presbyterian was the ideal location to feature Dr. Seth Bott on the Organ. It’s bound to be a thrilling night of beautiful music.  								\n				\n				\n				\n									\n					\n						\n									Buy tickets here\n					\n					\n				\n								\n				\n				\n				\n					\n				\n				\n	\n	First Presbyterian Church\n	\n	\n\n12 C Street East\n	\n		\n		Salt Lake City\,\n\n	Utah\n\n	84103\n\n	United States\n\n\n\n\n	+ Google Map \n\n\n	\n					\n						\n	 \n\n\n	\n	View Venue Website \n\n\n\n	\n\n\n\n		\n	\n				\n				\n				\n				\n					\n				\n		\n					\n				\n				\n					\n	\n		\n\n				UVAGO Super Saturday 2026	\n\n\n		\n	\n		UU Organ Area Recitals
URL:https://slcago.org/event/chapter-field-trip-may-2026/
CATEGORIES:Concerts & Recitals
ATTACH;FMTTYPE=image/jpeg:https://slcago.org/wp-content/uploads/2026/02/pexels-photo-1128527-1128527-e1772178501351.jpg
ORGANIZER;CN="Mark Atencio":MAILTO:mark@slcago.org
END:VEVENT
BEGIN:VEVENT
DTSTART;TZID=America/Denver:20260508T190000
DTEND;TZID=America/Denver:20260508T200000
DTSTAMP:20260423T122612
CREATED:20260126T011824Z
LAST-MODIFIED:20260126T222610Z
UID:9237-1778266800-1778270400@slcago.org
SUMMARY:Clay Christiansen Plays Benefit Concert
DESCRIPTION:Saturday\, April 25\n\n	\n\n	  @  \n\n\n7:30 PM\n\n		\n\n\n\n	\n	  -  \n\n9:30 PM\n\n\n\n	\n				\n				\n				\n				\n																														\n				\n				\n				\n					Salt Lake Symphonic Choir Annual Spring Concert				\n				\n				\n				\n							\n			\n						\n		\n						\n				\n				\n				\n					\n	\n	Date & Time:	\n			Saturday\, April 25\n\n	\n\n	  @  \n\n\n7:30 PM\n\n		\n\n\n\n	\n	  -  \n\n9:30 PM\n\n\n\n	\n				\n				\n				\n				\n				\n							\n			\n						\n		\n						\n				\n					\n				\n		\n					\n		\n		\n				\n				\n									Featured Organist: Dr. Seth Bott								\n				\n				\n				\n																														\n				\n				\n				\n					\n	\n		\n\n	\n	Add to calendar	\n		\n	\n\n		\n			\n									\n	Google Calendar\n\n									\n	iCalendar\n\n									\n	Outlook 365\n\n									\n	Outlook Live\n\n							\n		\n\n		\n	\n\n				\n				\n				\n		\n				\n				\n									Join the choir for a night of hopeful selections to invite contemplation and reinvigoration. Selections include Communion\, Ballad to the Moon\, and The 105th Psalm- all paying homage to the theme.  With the Requiem calling for Organ accompaniment\, First Presbyterian was the ideal location to feature Dr. Seth Bott on the Organ. It’s bound to be a thrilling night of beautiful music.  								\n				\n				\n				\n									\n					\n						\n									Buy tickets here\n					\n					\n				\n								\n				\n				\n				\n					\n				\n				\n	\n	First Presbyterian Church\n	\n	\n\n12 C Street East\n	\n		\n		Salt Lake City\,\n\n	Utah\n\n	84103\n\n	United States\n\n\n\n\n	+ Google Map \n\n\n	\n					\n						\n	 \n\n\n	\n	View Venue Website \n\n\n\n	\n\n\n\n		\n	\n				\n				\n				\n				\n					\n				\n		\n					\n				\n				\n					\n	\n		\n\n				UVAGO Super Saturday 2026	\n\n\n		\n	\n		UU Organ Area Recitals
URL:https://slcago.org/event/clay-christiansen-plays-benefit-concert/
LOCATION:Bountiful Community Church\, 150 N 400 E\, Bountiful\, UT\, 84010\, United States
CATEGORIES:Concerts & Recitals
ATTACH;FMTTYPE=image/jpeg:https://slcago.org/wp-content/uploads/2026/01/BCC-console-e1769389400126.jpg
END:VEVENT
BEGIN:VEVENT
DTSTART;TZID=America/Denver:20260515T193000
DTEND;TZID=America/Denver:20260515T210000
DTSTAMP:20260423T122612
CREATED:20260309T021247Z
LAST-MODIFIED:20260309T021524Z
UID:9807-1778873400-1778878800@slcago.org
SUMMARY:Isabelle Demers plays in Tabernacle Organ Virtuoso Performance Series
DESCRIPTION:Saturday\, April 25\n\n	\n\n	  @  \n\n\n7:30 PM\n\n		\n\n\n\n	\n	  -  \n\n9:30 PM\n\n\n\n	\n				\n				\n				\n				\n																														\n				\n				\n				\n					Salt Lake Symphonic Choir Annual Spring Concert				\n				\n				\n				\n							\n			\n						\n		\n						\n				\n				\n				\n					\n	\n	Date & Time:	\n			Saturday\, April 25\n\n	\n\n	  @  \n\n\n7:30 PM\n\n		\n\n\n\n	\n	  -  \n\n9:30 PM\n\n\n\n	\n				\n				\n				\n				\n				\n							\n			\n						\n		\n						\n				\n					\n				\n		\n					\n		\n		\n				\n				\n									Featured Organist: Dr. Seth Bott								\n				\n				\n				\n																														\n				\n				\n				\n					\n	\n		\n\n	\n	Add to calendar	\n		\n	\n\n		\n			\n									\n	Google Calendar\n\n									\n	iCalendar\n\n									\n	Outlook 365\n\n									\n	Outlook Live\n\n							\n		\n\n		\n	\n\n				\n				\n				\n		\n				\n				\n									Join the choir for a night of hopeful selections to invite contemplation and reinvigoration. Selections include Communion\, Ballad to the Moon\, and The 105th Psalm- all paying homage to the theme.  With the Requiem calling for Organ accompaniment\, First Presbyterian was the ideal location to feature Dr. Seth Bott on the Organ. It’s bound to be a thrilling night of beautiful music.  								\n				\n				\n				\n									\n					\n						\n									Buy tickets here\n					\n					\n				\n								\n				\n				\n				\n					\n				\n				\n	\n	First Presbyterian Church\n	\n	\n\n12 C Street East\n	\n		\n		Salt Lake City\,\n\n	Utah\n\n	84103\n\n	United States\n\n\n\n\n	+ Google Map \n\n\n	\n					\n						\n	 \n\n\n	\n	View Venue Website \n\n\n\n	\n\n\n\n		\n	\n				\n				\n				\n				\n					\n				\n		\n					\n				\n				\n					\n	\n		\n\n				UVAGO Super Saturday 2026	\n\n\n		\n	\n		UU Organ Area Recitals
URL:https://slcago.org/event/isabelle-demers-plays-in-tabernacle-organ-virtuoso-performance-series/
ATTACH;FMTTYPE=image/png:https://slcago.org/wp-content/uploads/2025/06/Old-Tabernacle-noon-recital-program-cover-organ-facade-only.png
END:VEVENT
BEGIN:VEVENT
DTSTART;TZID=America/Denver:20260516T193000
DTEND;TZID=America/Denver:20260516T210000
DTSTAMP:20260423T122612
CREATED:20260126T001305Z
LAST-MODIFIED:20260126T004017Z
UID:9191-1778959800-1778965200@slcago.org
SUMMARY:First United Methodist 120th Anniversary Organ Celebration
DESCRIPTION:Saturday\, April 25\n\n	\n\n	  @  \n\n\n7:30 PM\n\n		\n\n\n\n	\n	  -  \n\n9:30 PM\n\n\n\n	\n				\n				\n				\n				\n																														\n				\n				\n				\n					Salt Lake Symphonic Choir Annual Spring Concert				\n				\n				\n				\n							\n			\n						\n		\n						\n				\n				\n				\n					\n	\n	Date & Time:	\n			Saturday\, April 25\n\n	\n\n	  @  \n\n\n7:30 PM\n\n		\n\n\n\n	\n	  -  \n\n9:30 PM\n\n\n\n	\n				\n				\n				\n				\n				\n							\n			\n						\n		\n						\n				\n					\n				\n		\n					\n		\n		\n				\n				\n									Featured Organist: Dr. Seth Bott								\n				\n				\n				\n																														\n				\n				\n				\n					\n	\n		\n\n	\n	Add to calendar	\n		\n	\n\n		\n			\n									\n	Google Calendar\n\n									\n	iCalendar\n\n									\n	Outlook 365\n\n									\n	Outlook Live\n\n							\n		\n\n		\n	\n\n				\n				\n				\n		\n				\n				\n									Join the choir for a night of hopeful selections to invite contemplation and reinvigoration. Selections include Communion\, Ballad to the Moon\, and The 105th Psalm- all paying homage to the theme.  With the Requiem calling for Organ accompaniment\, First Presbyterian was the ideal location to feature Dr. Seth Bott on the Organ. It’s bound to be a thrilling night of beautiful music.  								\n				\n				\n				\n									\n					\n						\n									Buy tickets here\n					\n					\n				\n								\n				\n				\n				\n					\n				\n				\n	\n	First Presbyterian Church\n	\n	\n\n12 C Street East\n	\n		\n		Salt Lake City\,\n\n	Utah\n\n	84103\n\n	United States\n\n\n\n\n	+ Google Map \n\n\n	\n					\n						\n	 \n\n\n	\n	View Venue Website \n\n\n\n	\n\n\n\n		\n	\n				\n				\n				\n				\n					\n				\n		\n					\n				\n				\n					\n	\n		\n\n				UVAGO Super Saturday 2026	\n\n\n		\n	\n		UU Organ Area Recitals
URL:https://slcago.org/event/first-united-methodist-120th-anniversary-organ-celebration/
LOCATION:First United Methodist Church\, 203 E 200 S\, Salt Lake City\, Utah\, 84111\, United States
ATTACH;FMTTYPE=image/jpeg:https://slcago.org/wp-content/uploads/2024/07/1st-Methodist-facade-e1722278056517.jpg
END:VEVENT
BEGIN:VEVENT
DTSTART;TZID=America/Denver:20260531T163000
DTEND;TZID=America/Denver:20260531T180000
DTSTAMP:20260423T122612
CREATED:20260126T015352Z
LAST-MODIFIED:20260126T020726Z
UID:9254-1780245000-1780250400@slcago.org
SUMMARY:Organists for Autism Concert
DESCRIPTION:Saturday\, April 25\n\n	\n\n	  @  \n\n\n7:30 PM\n\n		\n\n\n\n	\n	  -  \n\n9:30 PM\n\n\n\n	\n				\n				\n				\n				\n																														\n				\n				\n				\n					Salt Lake Symphonic Choir Annual Spring Concert				\n				\n				\n				\n							\n			\n						\n		\n						\n				\n				\n				\n					\n	\n	Date & Time:	\n			Saturday\, April 25\n\n	\n\n	  @  \n\n\n7:30 PM\n\n		\n\n\n\n	\n	  -  \n\n9:30 PM\n\n\n\n	\n				\n				\n				\n				\n				\n							\n			\n						\n		\n						\n				\n					\n				\n		\n					\n		\n		\n				\n				\n									Featured Organist: Dr. Seth Bott								\n				\n				\n				\n																														\n				\n				\n				\n					\n	\n		\n\n	\n	Add to calendar	\n		\n	\n\n		\n			\n									\n	Google Calendar\n\n									\n	iCalendar\n\n									\n	Outlook 365\n\n									\n	Outlook Live\n\n							\n		\n\n		\n	\n\n				\n				\n				\n		\n				\n				\n									Join the choir for a night of hopeful selections to invite contemplation and reinvigoration. Selections include Communion\, Ballad to the Moon\, and The 105th Psalm- all paying homage to the theme.  With the Requiem calling for Organ accompaniment\, First Presbyterian was the ideal location to feature Dr. Seth Bott on the Organ. It’s bound to be a thrilling night of beautiful music.  								\n				\n				\n				\n									\n					\n						\n									Buy tickets here\n					\n					\n				\n								\n				\n				\n				\n					\n				\n				\n	\n	First Presbyterian Church\n	\n	\n\n12 C Street East\n	\n		\n		Salt Lake City\,\n\n	Utah\n\n	84103\n\n	United States\n\n\n\n\n	+ Google Map \n\n\n	\n					\n						\n	 \n\n\n	\n	View Venue Website \n\n\n\n	\n\n\n\n		\n	\n				\n				\n				\n				\n					\n				\n		\n					\n				\n				\n					\n	\n		\n\n				UVAGO Super Saturday 2026	\n\n\n		\n	\n		UU Organ Area Recitals
URL:https://slcago.org/event/organists-for-autism-concert/
LOCATION:Cottonwood Presbyterian Church\, 1580 Vine Street\, Murray\, Utah\, 84121\, United States
CATEGORIES:Concerts & Recitals
ATTACH;FMTTYPE=image/jpeg:https://slcago.org/wp-content/uploads/2025/02/Cottonwood-Pres.jpg
END:VEVENT
BEGIN:VEVENT
DTSTART;TZID=America/Denver:20260612T190000
DTEND;TZID=America/Denver:20260612T210000
DTSTAMP:20260423T122612
CREATED:20260131T222421Z
LAST-MODIFIED:20260131T222756Z
UID:9408-1781290800-1781298000@slcago.org
SUMMARY:Rulon Christiansen Plays Benefit Concert
DESCRIPTION:Saturday\, April 25\n\n	\n\n	  @  \n\n\n7:30 PM\n\n		\n\n\n\n	\n	  -  \n\n9:30 PM\n\n\n\n	\n				\n				\n				\n				\n																														\n				\n				\n				\n					Salt Lake Symphonic Choir Annual Spring Concert				\n				\n				\n				\n							\n			\n						\n		\n						\n				\n				\n				\n					\n	\n	Date & Time:	\n			Saturday\, April 25\n\n	\n\n	  @  \n\n\n7:30 PM\n\n		\n\n\n\n	\n	  -  \n\n9:30 PM\n\n\n\n	\n				\n				\n				\n				\n				\n							\n			\n						\n		\n						\n				\n					\n				\n		\n					\n		\n		\n				\n				\n									Featured Organist: Dr. Seth Bott								\n				\n				\n				\n																														\n				\n				\n				\n					\n	\n		\n\n	\n	Add to calendar	\n		\n	\n\n		\n			\n									\n	Google Calendar\n\n									\n	iCalendar\n\n									\n	Outlook 365\n\n									\n	Outlook Live\n\n							\n		\n\n		\n	\n\n				\n				\n				\n		\n				\n				\n									Join the choir for a night of hopeful selections to invite contemplation and reinvigoration. Selections include Communion\, Ballad to the Moon\, and The 105th Psalm- all paying homage to the theme.  With the Requiem calling for Organ accompaniment\, First Presbyterian was the ideal location to feature Dr. Seth Bott on the Organ. It’s bound to be a thrilling night of beautiful music.  								\n				\n				\n				\n									\n					\n						\n									Buy tickets here\n					\n					\n				\n								\n				\n				\n				\n					\n				\n				\n	\n	First Presbyterian Church\n	\n	\n\n12 C Street East\n	\n		\n		Salt Lake City\,\n\n	Utah\n\n	84103\n\n	United States\n\n\n\n\n	+ Google Map \n\n\n	\n					\n						\n	 \n\n\n	\n	View Venue Website \n\n\n\n	\n\n\n\n		\n	\n				\n				\n				\n				\n					\n				\n		\n					\n				\n				\n					\n	\n		\n\n				UVAGO Super Saturday 2026	\n\n\n		\n	\n		UU Organ Area Recitals
URL:https://slcago.org/event/rulon-christiansen-plays-benefit-concert/
LOCATION:Bountiful Community Church\, 150 N 400 E\, Bountiful\, UT\, 84010\, United States
CATEGORIES:Concerts & Recitals
ATTACH;FMTTYPE=image/jpeg:https://slcago.org/wp-content/uploads/2026/01/BCC-console-e1769389400126.jpg
END:VEVENT
BEGIN:VEVENT
DTSTART;TZID=America/Denver:20260821T190000
DTEND;TZID=America/Denver:20260821T203000
DTSTAMP:20260423T122612
CREATED:20260126T012210Z
LAST-MODIFIED:20260131T222151Z
UID:9246-1787338800-1787344200@slcago.org
SUMMARY:Seth Bott Plays Benefit Concert
DESCRIPTION:Saturday\, April 25\n\n	\n\n	  @  \n\n\n7:30 PM\n\n		\n\n\n\n	\n	  -  \n\n9:30 PM\n\n\n\n	\n				\n				\n				\n				\n																														\n				\n				\n				\n					Salt Lake Symphonic Choir Annual Spring Concert				\n				\n				\n				\n							\n			\n						\n		\n						\n				\n				\n				\n					\n	\n	Date & Time:	\n			Saturday\, April 25\n\n	\n\n	  @  \n\n\n7:30 PM\n\n		\n\n\n\n	\n	  -  \n\n9:30 PM\n\n\n\n	\n				\n				\n				\n				\n				\n							\n			\n						\n		\n						\n				\n					\n				\n		\n					\n		\n		\n				\n				\n									Featured Organist: Dr. Seth Bott								\n				\n				\n				\n																														\n				\n				\n				\n					\n	\n		\n\n	\n	Add to calendar	\n		\n	\n\n		\n			\n									\n	Google Calendar\n\n									\n	iCalendar\n\n									\n	Outlook 365\n\n									\n	Outlook Live\n\n							\n		\n\n		\n	\n\n				\n				\n				\n		\n				\n				\n									Join the choir for a night of hopeful selections to invite contemplation and reinvigoration. Selections include Communion\, Ballad to the Moon\, and The 105th Psalm- all paying homage to the theme.  With the Requiem calling for Organ accompaniment\, First Presbyterian was the ideal location to feature Dr. Seth Bott on the Organ. It’s bound to be a thrilling night of beautiful music.  								\n				\n				\n				\n									\n					\n						\n									Buy tickets here\n					\n					\n				\n								\n				\n				\n				\n					\n				\n				\n	\n	First Presbyterian Church\n	\n	\n\n12 C Street East\n	\n		\n		Salt Lake City\,\n\n	Utah\n\n	84103\n\n	United States\n\n\n\n\n	+ Google Map \n\n\n	\n					\n						\n	 \n\n\n	\n	View Venue Website \n\n\n\n	\n\n\n\n		\n	\n				\n				\n				\n				\n					\n				\n		\n					\n				\n				\n					\n	\n		\n\n				UVAGO Super Saturday 2026	\n\n\n		\n	\n		UU Organ Area Recitals
URL:https://slcago.org/event/seth-bott-plays-benefit-concert/
LOCATION:Bountiful Community Church\, 150 N 400 E\, Bountiful\, UT\, 84010\, United States
CATEGORIES:Concerts & Recitals
ATTACH;FMTTYPE=image/jpeg:https://slcago.org/wp-content/uploads/2026/01/BCC-console-e1769389400126.jpg
END:VEVENT
BEGIN:VEVENT
DTSTART;TZID=America/Denver:20260828T193000
DTEND;TZID=America/Denver:20260828T210000
DTSTAMP:20260423T122612
CREATED:20260130T051647Z
LAST-MODIFIED:20260309T015824Z
UID:9380-1787945400-1787950800@slcago.org
SUMMARY:Kenneth Udy Plays in Tabernacle Organ Virtuoso Performance Series
DESCRIPTION:Saturday\, April 25\n\n	\n\n	  @  \n\n\n7:30 PM\n\n		\n\n\n\n	\n	  -  \n\n9:30 PM\n\n\n\n	\n				\n				\n				\n				\n																														\n				\n				\n				\n					Salt Lake Symphonic Choir Annual Spring Concert				\n				\n				\n				\n							\n			\n						\n		\n						\n				\n				\n				\n					\n	\n	Date & Time:	\n			Saturday\, April 25\n\n	\n\n	  @  \n\n\n7:30 PM\n\n		\n\n\n\n	\n	  -  \n\n9:30 PM\n\n\n\n	\n				\n				\n				\n				\n				\n							\n			\n						\n		\n						\n				\n					\n				\n		\n					\n		\n		\n				\n				\n									Featured Organist: Dr. Seth Bott								\n				\n				\n				\n																														\n				\n				\n				\n					\n	\n		\n\n	\n	Add to calendar	\n		\n	\n\n		\n			\n									\n	Google Calendar\n\n									\n	iCalendar\n\n									\n	Outlook 365\n\n									\n	Outlook Live\n\n							\n		\n\n		\n	\n\n				\n				\n				\n		\n				\n				\n									Join the choir for a night of hopeful selections to invite contemplation and reinvigoration. Selections include Communion\, Ballad to the Moon\, and The 105th Psalm- all paying homage to the theme.  With the Requiem calling for Organ accompaniment\, First Presbyterian was the ideal location to feature Dr. Seth Bott on the Organ. It’s bound to be a thrilling night of beautiful music.  								\n				\n				\n				\n									\n					\n						\n									Buy tickets here\n					\n					\n				\n								\n				\n				\n				\n					\n				\n				\n	\n	First Presbyterian Church\n	\n	\n\n12 C Street East\n	\n		\n		Salt Lake City\,\n\n	Utah\n\n	84103\n\n	United States\n\n\n\n\n	+ Google Map \n\n\n	\n					\n						\n	 \n\n\n	\n	View Venue Website \n\n\n\n	\n\n\n\n		\n	\n				\n				\n				\n				\n					\n				\n		\n					\n				\n				\n					\n	\n		\n\n				UVAGO Super Saturday 2026	\n\n\n		\n	\n		UU Organ Area Recitals
URL:https://slcago.org/event/kenneth-udy-plays-in-tabernacle-organ-virtuoso-performance-series/
LOCATION:Temple Square\, 50 E N. Temple\, Salt Lake City\, Utah\, 84150
ATTACH;FMTTYPE=image/png:https://slcago.org/wp-content/uploads/2025/06/Old-Tabernacle-noon-recital-program-cover-organ-facade-only.png
END:VEVENT
END:VCALENDAR