BEGIN:VCALENDAR
VERSION:2.0
PRODID:-//The Official Site of the Salt Lake City AGO - ECPv6.15.20//NONSGML v1.0//EN
CALSCALE:GREGORIAN
METHOD:PUBLISH
X-WR-CALNAME:The Official Site of the Salt Lake City AGO
X-ORIGINAL-URL:https://slcago.org
X-WR-CALDESC:Events for The Official Site of the Salt Lake City AGO
REFRESH-INTERVAL;VALUE=DURATION:PT1H
X-Robots-Tag:noindex
X-PUBLISHED-TTL:PT1H
BEGIN:VTIMEZONE
TZID:America/Denver
BEGIN:DAYLIGHT
TZOFFSETFROM:-0700
TZOFFSETTO:-0600
TZNAME:MDT
DTSTART:20210314T090000
END:DAYLIGHT
BEGIN:STANDARD
TZOFFSETFROM:-0600
TZOFFSETTO:-0700
TZNAME:MST
DTSTART:20211107T080000
END:STANDARD
BEGIN:DAYLIGHT
TZOFFSETFROM:-0700
TZOFFSETTO:-0600
TZNAME:MDT
DTSTART:20220313T090000
END:DAYLIGHT
BEGIN:STANDARD
TZOFFSETFROM:-0600
TZOFFSETTO:-0700
TZNAME:MST
DTSTART:20221106T080000
END:STANDARD
BEGIN:DAYLIGHT
TZOFFSETFROM:-0700
TZOFFSETTO:-0600
TZNAME:MDT
DTSTART:20230312T090000
END:DAYLIGHT
BEGIN:STANDARD
TZOFFSETFROM:-0600
TZOFFSETTO:-0700
TZNAME:MST
DTSTART:20231105T080000
END:STANDARD
BEGIN:DAYLIGHT
TZOFFSETFROM:-0700
TZOFFSETTO:-0600
TZNAME:MDT
DTSTART:20240310T090000
END:DAYLIGHT
BEGIN:STANDARD
TZOFFSETFROM:-0600
TZOFFSETTO:-0700
TZNAME:MST
DTSTART:20241103T080000
END:STANDARD
END:VTIMEZONE
BEGIN:VEVENT
DTSTART;TZID=America/Denver:20230201T080000
DTEND;TZID=America/Denver:20230201T170000
DTSTAMP:20260425T095637
CREATED:20230202T005950Z
LAST-MODIFIED:20230202T005957Z
UID:3645-1675238400-1675270800@slcago.org
SUMMARY:Celebrating Women Composers
DESCRIPTION:Friday\, May 8\n\n	\n\n	  @  \n\n\n7:00 PM\n\n		\n\n\n\n	\n	  -  \n\n8:00 PM\n\n\n\n	\n				\n				\n				\n				\n																														\n				\n				\n				\n					Benefit Concert featuring Clay Christiansen				\n				\n				\n				\n							\n			\n						\n		\n						\n				\n				\n				\n					\n	\n	Date & Time:	\n			Friday\, May 8\n\n	\n\n	  @  \n\n\n7:00 PM\n\n		\n\n\n\n	\n	  -  \n\n8:00 PM\n\n\n\n	\n				\n				\n				\n				\n							\n			\n						\n		\n						\n				\n				\n					\n				\n		\n					\n		\n		\n				\n				\n					Support the new organ fund!				\n				\n				\n				\n																														\n				\n				\n		\n				\n				\n									Bountiful Community Church is hosting a benefit concert to fund a new pipe organ! Come listen to Clay Christiansen\, artist and composer\, perform various organ works.  Suggested donation for the concert is $5. Cash\, checks\, venmo\, or credit cards are accepted for the popcorn and snackin’ fundraiser!								\n				\n				\n				\n					\n	\n		\n\n	\n	Add to calendar	\n		\n	\n\n		\n			\n									\n	Google Calendar\n\n									\n	iCalendar\n\n									\n	Outlook 365\n\n									\n	Outlook Live\n\n							\n		\n\n		\n	\n\n				\n				\n				\n				\n					\n				\n		\n					\n				\n				\n							\n			\n						\n		\n						\n				\n					\n				\n		\n					\n				\n				\n					\n	\n		\n\n				Chapter Field Trip May 2026	\n\n\n		\n	\n		Isabelle Demers plays in Tabernacle Organ Virtuoso Performance Series
URL:https://slcago.org/event/celebrating-women-composers/
LOCATION:First United Methodist Church\, 203 E 200 S\, Salt Lake City\, Utah\, 84111\, United States
END:VEVENT
BEGIN:VEVENT
DTSTART;TZID=America/Denver:20230201T080000
DTEND;TZID=America/Denver:20230201T170000
DTSTAMP:20260425T095637
CREATED:20221101T221711Z
LAST-MODIFIED:20221101T223235Z
UID:3456-1675238400-1675270800@slcago.org
SUMMARY:Service Playing Exam Deadline
DESCRIPTION:Friday\, May 8\n\n	\n\n	  @  \n\n\n7:00 PM\n\n		\n\n\n\n	\n	  -  \n\n8:00 PM\n\n\n\n	\n				\n				\n				\n				\n																														\n				\n				\n				\n					Benefit Concert featuring Clay Christiansen				\n				\n				\n				\n							\n			\n						\n		\n						\n				\n				\n				\n					\n	\n	Date & Time:	\n			Friday\, May 8\n\n	\n\n	  @  \n\n\n7:00 PM\n\n		\n\n\n\n	\n	  -  \n\n8:00 PM\n\n\n\n	\n				\n				\n				\n				\n							\n			\n						\n		\n						\n				\n				\n					\n				\n		\n					\n		\n		\n				\n				\n					Support the new organ fund!				\n				\n				\n				\n																														\n				\n				\n		\n				\n				\n									Bountiful Community Church is hosting a benefit concert to fund a new pipe organ! Come listen to Clay Christiansen\, artist and composer\, perform various organ works.  Suggested donation for the concert is $5. Cash\, checks\, venmo\, or credit cards are accepted for the popcorn and snackin’ fundraiser!								\n				\n				\n				\n					\n	\n		\n\n	\n	Add to calendar	\n		\n	\n\n		\n			\n									\n	Google Calendar\n\n									\n	iCalendar\n\n									\n	Outlook 365\n\n									\n	Outlook Live\n\n							\n		\n\n		\n	\n\n				\n				\n				\n				\n					\n				\n		\n					\n				\n				\n							\n			\n						\n		\n						\n				\n					\n				\n		\n					\n				\n				\n					\n	\n		\n\n				Chapter Field Trip May 2026	\n\n\n		\n	\n		Isabelle Demers plays in Tabernacle Organ Virtuoso Performance Series
URL:https://slcago.org/event/service-playing-exam-deadlin/
LOCATION:UT
CATEGORIES:Certification & Training
END:VEVENT
BEGIN:VEVENT
DTSTART;TZID=America/Denver:20221120T160000
DTEND;TZID=America/Denver:20221120T180000
DTSTAMP:20260425T095637
CREATED:20221026T204306Z
LAST-MODIFIED:20221101T223246Z
UID:3286-1668960000-1668967200@slcago.org
SUMMARY:Organ Recital
DESCRIPTION:Friday\, May 8\n\n	\n\n	  @  \n\n\n7:00 PM\n\n		\n\n\n\n	\n	  -  \n\n8:00 PM\n\n\n\n	\n				\n				\n				\n				\n																														\n				\n				\n				\n					Benefit Concert featuring Clay Christiansen				\n				\n				\n				\n							\n			\n						\n		\n						\n				\n				\n				\n					\n	\n	Date & Time:	\n			Friday\, May 8\n\n	\n\n	  @  \n\n\n7:00 PM\n\n		\n\n\n\n	\n	  -  \n\n8:00 PM\n\n\n\n	\n				\n				\n				\n				\n							\n			\n						\n		\n						\n				\n				\n					\n				\n		\n					\n		\n		\n				\n				\n					Support the new organ fund!				\n				\n				\n				\n																														\n				\n				\n		\n				\n				\n									Bountiful Community Church is hosting a benefit concert to fund a new pipe organ! Come listen to Clay Christiansen\, artist and composer\, perform various organ works.  Suggested donation for the concert is $5. Cash\, checks\, venmo\, or credit cards are accepted for the popcorn and snackin’ fundraiser!								\n				\n				\n				\n					\n	\n		\n\n	\n	Add to calendar	\n		\n	\n\n		\n			\n									\n	Google Calendar\n\n									\n	iCalendar\n\n									\n	Outlook 365\n\n									\n	Outlook Live\n\n							\n		\n\n		\n	\n\n				\n				\n				\n				\n					\n				\n		\n					\n				\n				\n							\n			\n						\n		\n						\n				\n					\n				\n		\n					\n				\n				\n					\n	\n		\n\n				Chapter Field Trip May 2026	\n\n\n		\n	\n		Isabelle Demers plays in Tabernacle Organ Virtuoso Performance Series
URL:https://slcago.org/event/organ-recital/
LOCATION:First Baptist Church of Salt Lake City\, 777 S 1300 E\, Salt Lake City\, UT\, 84102\, United States
CATEGORIES:Concerts & Recitals
END:VEVENT
BEGIN:VEVENT
DTSTART;TZID=America/Denver:20221118T090000
DTEND;TZID=America/Denver:20221118T093000
DTSTAMP:20260425T095637
CREATED:20221026T204113Z
LAST-MODIFIED:20221101T223256Z
UID:3282-1668762000-1668763800@slcago.org
SUMMARY:Hymn Sing & Pie Social
DESCRIPTION:Friday\, May 8\n\n	\n\n	  @  \n\n\n7:00 PM\n\n		\n\n\n\n	\n	  -  \n\n8:00 PM\n\n\n\n	\n				\n				\n				\n				\n																														\n				\n				\n				\n					Benefit Concert featuring Clay Christiansen				\n				\n				\n				\n							\n			\n						\n		\n						\n				\n				\n				\n					\n	\n	Date & Time:	\n			Friday\, May 8\n\n	\n\n	  @  \n\n\n7:00 PM\n\n		\n\n\n\n	\n	  -  \n\n8:00 PM\n\n\n\n	\n				\n				\n				\n				\n							\n			\n						\n		\n						\n				\n				\n					\n				\n		\n					\n		\n		\n				\n				\n					Support the new organ fund!				\n				\n				\n				\n																														\n				\n				\n		\n				\n				\n									Bountiful Community Church is hosting a benefit concert to fund a new pipe organ! Come listen to Clay Christiansen\, artist and composer\, perform various organ works.  Suggested donation for the concert is $5. Cash\, checks\, venmo\, or credit cards are accepted for the popcorn and snackin’ fundraiser!								\n				\n				\n				\n					\n	\n		\n\n	\n	Add to calendar	\n		\n	\n\n		\n			\n									\n	Google Calendar\n\n									\n	iCalendar\n\n									\n	Outlook 365\n\n									\n	Outlook Live\n\n							\n		\n\n		\n	\n\n				\n				\n				\n				\n					\n				\n		\n					\n				\n				\n							\n			\n						\n		\n						\n				\n					\n				\n		\n					\n				\n				\n					\n	\n		\n\n				Chapter Field Trip May 2026	\n\n\n		\n	\n		Isabelle Demers plays in Tabernacle Organ Virtuoso Performance Series
URL:https://slcago.org/event/hymn-sing-pie-social/
LOCATION:St. Ambrose Catholic Church\, 2315 East Redondo Avenue\, Salt Lake City\, Utah\, United States
CATEGORIES:Concerts & Recitals
END:VEVENT
BEGIN:VEVENT
DTSTART;TZID=America/Denver:20221118T080000
DTEND;TZID=America/Denver:20221118T170000
DTSTAMP:20260425T095637
CREATED:20221101T221403Z
LAST-MODIFIED:20221101T223305Z
UID:3454-1668758400-1668790800@slcago.org
SUMMARY:CAGO Exam
DESCRIPTION:Friday\, May 8\n\n	\n\n	  @  \n\n\n7:00 PM\n\n		\n\n\n\n	\n	  -  \n\n8:00 PM\n\n\n\n	\n				\n				\n				\n				\n																														\n				\n				\n				\n					Benefit Concert featuring Clay Christiansen				\n				\n				\n				\n							\n			\n						\n		\n						\n				\n				\n				\n					\n	\n	Date & Time:	\n			Friday\, May 8\n\n	\n\n	  @  \n\n\n7:00 PM\n\n		\n\n\n\n	\n	  -  \n\n8:00 PM\n\n\n\n	\n				\n				\n				\n				\n							\n			\n						\n		\n						\n				\n				\n					\n				\n		\n					\n		\n		\n				\n				\n					Support the new organ fund!				\n				\n				\n				\n																														\n				\n				\n		\n				\n				\n									Bountiful Community Church is hosting a benefit concert to fund a new pipe organ! Come listen to Clay Christiansen\, artist and composer\, perform various organ works.  Suggested donation for the concert is $5. Cash\, checks\, venmo\, or credit cards are accepted for the popcorn and snackin’ fundraiser!								\n				\n				\n				\n					\n	\n		\n\n	\n	Add to calendar	\n		\n	\n\n		\n			\n									\n	Google Calendar\n\n									\n	iCalendar\n\n									\n	Outlook 365\n\n									\n	Outlook Live\n\n							\n		\n\n		\n	\n\n				\n				\n				\n				\n					\n				\n		\n					\n				\n				\n							\n			\n						\n		\n						\n				\n					\n				\n		\n					\n				\n				\n					\n	\n		\n\n				Chapter Field Trip May 2026	\n\n\n		\n	\n		Isabelle Demers plays in Tabernacle Organ Virtuoso Performance Series
URL:https://slcago.org/event/cago-exam/
LOCATION:UT
CATEGORIES:Certification & Training
END:VEVENT
BEGIN:VEVENT
DTSTART;TZID=America/Denver:20221113T200000
DTEND;TZID=America/Denver:20221113T220000
DTSTAMP:20260425T095637
CREATED:20221026T203750Z
LAST-MODIFIED:20221101T223331Z
UID:3280-1668369600-1668376800@slcago.org
SUMMARY:Eccles Organ Festival Recital
DESCRIPTION:Friday\, May 8\n\n	\n\n	  @  \n\n\n7:00 PM\n\n		\n\n\n\n	\n	  -  \n\n8:00 PM\n\n\n\n	\n				\n				\n				\n				\n																														\n				\n				\n				\n					Benefit Concert featuring Clay Christiansen				\n				\n				\n				\n							\n			\n						\n		\n						\n				\n				\n				\n					\n	\n	Date & Time:	\n			Friday\, May 8\n\n	\n\n	  @  \n\n\n7:00 PM\n\n		\n\n\n\n	\n	  -  \n\n8:00 PM\n\n\n\n	\n				\n				\n				\n				\n							\n			\n						\n		\n						\n				\n				\n					\n				\n		\n					\n		\n		\n				\n				\n					Support the new organ fund!				\n				\n				\n				\n																														\n				\n				\n		\n				\n				\n									Bountiful Community Church is hosting a benefit concert to fund a new pipe organ! Come listen to Clay Christiansen\, artist and composer\, perform various organ works.  Suggested donation for the concert is $5. Cash\, checks\, venmo\, or credit cards are accepted for the popcorn and snackin’ fundraiser!								\n				\n				\n				\n					\n	\n		\n\n	\n	Add to calendar	\n		\n	\n\n		\n			\n									\n	Google Calendar\n\n									\n	iCalendar\n\n									\n	Outlook 365\n\n									\n	Outlook Live\n\n							\n		\n\n		\n	\n\n				\n				\n				\n				\n					\n				\n		\n					\n				\n				\n							\n			\n						\n		\n						\n				\n					\n				\n		\n					\n				\n				\n					\n	\n		\n\n				Chapter Field Trip May 2026	\n\n\n		\n	\n		Isabelle Demers plays in Tabernacle Organ Virtuoso Performance Series
URL:https://slcago.org/event/eccles-organ-festival-recital/
LOCATION:UT
CATEGORIES:Concerts & Recitals
END:VEVENT
BEGIN:VEVENT
DTSTART;TZID=America/Denver:20221104T193000
DTEND;TZID=America/Denver:20221104T213000
DTSTAMP:20260425T095637
CREATED:20221026T203511Z
LAST-MODIFIED:20221101T223315Z
UID:3278-1667590200-1667597400@slcago.org
SUMMARY:Tabernacle Organ Virtuoso Performance Seires
DESCRIPTION:Friday\, May 8\n\n	\n\n	  @  \n\n\n7:00 PM\n\n		\n\n\n\n	\n	  -  \n\n8:00 PM\n\n\n\n	\n				\n				\n				\n				\n																														\n				\n				\n				\n					Benefit Concert featuring Clay Christiansen				\n				\n				\n				\n							\n			\n						\n		\n						\n				\n				\n				\n					\n	\n	Date & Time:	\n			Friday\, May 8\n\n	\n\n	  @  \n\n\n7:00 PM\n\n		\n\n\n\n	\n	  -  \n\n8:00 PM\n\n\n\n	\n				\n				\n				\n				\n							\n			\n						\n		\n						\n				\n				\n					\n				\n		\n					\n		\n		\n				\n				\n					Support the new organ fund!				\n				\n				\n				\n																														\n				\n				\n		\n				\n				\n									Bountiful Community Church is hosting a benefit concert to fund a new pipe organ! Come listen to Clay Christiansen\, artist and composer\, perform various organ works.  Suggested donation for the concert is $5. Cash\, checks\, venmo\, or credit cards are accepted for the popcorn and snackin’ fundraiser!								\n				\n				\n				\n					\n	\n		\n\n	\n	Add to calendar	\n		\n	\n\n		\n			\n									\n	Google Calendar\n\n									\n	iCalendar\n\n									\n	Outlook 365\n\n									\n	Outlook Live\n\n							\n		\n\n		\n	\n\n				\n				\n				\n				\n					\n				\n		\n					\n				\n				\n							\n			\n						\n		\n						\n				\n					\n				\n		\n					\n				\n				\n					\n	\n		\n\n				Chapter Field Trip May 2026	\n\n\n		\n	\n		Isabelle Demers plays in Tabernacle Organ Virtuoso Performance Series
URL:https://slcago.org/event/tabernacle-organ-virtuoso-performance-seires/
LOCATION:UT
CATEGORIES:Concerts & Recitals
END:VEVENT
BEGIN:VEVENT
DTSTART;TZID=America/Denver:20221015T080000
DTEND;TZID=America/Denver:20221015T130000
DTSTAMP:20260425T095637
CREATED:20221012T220342Z
LAST-MODIFIED:20221012T220345Z
UID:3001-1665820800-1665838800@slcago.org
SUMMARY:Pedals\, Pipes and Pizza 2022
DESCRIPTION:Friday\, May 8\n\n	\n\n	  @  \n\n\n7:00 PM\n\n		\n\n\n\n	\n	  -  \n\n8:00 PM\n\n\n\n	\n				\n				\n				\n				\n																														\n				\n				\n				\n					Benefit Concert featuring Clay Christiansen				\n				\n				\n				\n							\n			\n						\n		\n						\n				\n				\n				\n					\n	\n	Date & Time:	\n			Friday\, May 8\n\n	\n\n	  @  \n\n\n7:00 PM\n\n		\n\n\n\n	\n	  -  \n\n8:00 PM\n\n\n\n	\n				\n				\n				\n				\n							\n			\n						\n		\n						\n				\n				\n					\n				\n		\n					\n		\n		\n				\n				\n					Support the new organ fund!				\n				\n				\n				\n																														\n				\n				\n		\n				\n				\n									Bountiful Community Church is hosting a benefit concert to fund a new pipe organ! Come listen to Clay Christiansen\, artist and composer\, perform various organ works.  Suggested donation for the concert is $5. Cash\, checks\, venmo\, or credit cards are accepted for the popcorn and snackin’ fundraiser!								\n				\n				\n				\n					\n	\n		\n\n	\n	Add to calendar	\n		\n	\n\n		\n			\n									\n	Google Calendar\n\n									\n	iCalendar\n\n									\n	Outlook 365\n\n									\n	Outlook Live\n\n							\n		\n\n		\n	\n\n				\n				\n				\n				\n					\n				\n		\n					\n				\n				\n							\n			\n						\n		\n						\n				\n					\n				\n		\n					\n				\n				\n					\n	\n		\n\n				Chapter Field Trip May 2026	\n\n\n		\n	\n		Isabelle Demers plays in Tabernacle Organ Virtuoso Performance Series
URL:https://slcago.org/event/pedals-pipes-and-pizza-2022/
LOCATION:Assembly Hall on Temple Square\, 50 W South Temple\, Salt Lake City\, Utah\, 84150\, United States
END:VEVENT
END:VCALENDAR