BEGIN:VCALENDAR
VERSION:2.0
PRODID:-//The Official Site of the Salt Lake City AGO - ECPv6.15.20//NONSGML v1.0//EN
CALSCALE:GREGORIAN
METHOD:PUBLISH
X-ORIGINAL-URL:https://slcago.org
X-WR-CALDESC:Events for The Official Site of the Salt Lake City AGO
REFRESH-INTERVAL;VALUE=DURATION:PT1H
X-Robots-Tag:noindex
X-PUBLISHED-TTL:PT1H
BEGIN:VTIMEZONE
TZID:America/Denver
BEGIN:DAYLIGHT
TZOFFSETFROM:-0700
TZOFFSETTO:-0600
TZNAME:MDT
DTSTART:20230312T090000
END:DAYLIGHT
BEGIN:STANDARD
TZOFFSETFROM:-0600
TZOFFSETTO:-0700
TZNAME:MST
DTSTART:20231105T080000
END:STANDARD
BEGIN:DAYLIGHT
TZOFFSETFROM:-0700
TZOFFSETTO:-0600
TZNAME:MDT
DTSTART:20240310T090000
END:DAYLIGHT
BEGIN:STANDARD
TZOFFSETFROM:-0600
TZOFFSETTO:-0700
TZNAME:MST
DTSTART:20241103T080000
END:STANDARD
BEGIN:DAYLIGHT
TZOFFSETFROM:-0700
TZOFFSETTO:-0600
TZNAME:MDT
DTSTART:20250309T090000
END:DAYLIGHT
BEGIN:STANDARD
TZOFFSETFROM:-0600
TZOFFSETTO:-0700
TZNAME:MST
DTSTART:20251102T080000
END:STANDARD
END:VTIMEZONE
BEGIN:VEVENT
DTSTART;TZID=America/Denver:20240825T190000
DTEND;TZID=America/Denver:20240825T210000
DTSTAMP:20260424T162534
CREATED:20240605T200407Z
LAST-MODIFIED:20240731T142902Z
UID:4831-1724612400-1724619600@slcago.org
SUMMARY:Chapter Member Appreciation Open console
DESCRIPTION:Saturday\, April 25\n\n	\n\n	  @  \n\n\n7:30 PM\n\n		\n\n\n\n	\n	  -  \n\n9:30 PM\n\n\n\n	\n				\n				\n				\n				\n																														\n				\n				\n				\n					Salt Lake Symphonic Choir Annual Spring Concert				\n				\n				\n				\n							\n			\n						\n		\n						\n				\n				\n				\n					\n	\n	Date & Time:	\n			Saturday\, April 25\n\n	\n\n	  @  \n\n\n7:30 PM\n\n		\n\n\n\n	\n	  -  \n\n9:30 PM\n\n\n\n	\n				\n				\n				\n				\n				\n							\n			\n						\n		\n						\n				\n					\n				\n		\n					\n		\n		\n				\n				\n									Featured Organist: Dr. Seth Bott								\n				\n				\n				\n																														\n				\n				\n				\n					\n	\n		\n\n	\n	Add to calendar	\n		\n	\n\n		\n			\n									\n	Google Calendar\n\n									\n	iCalendar\n\n									\n	Outlook 365\n\n									\n	Outlook Live\n\n							\n		\n\n		\n	\n\n				\n				\n				\n		\n				\n				\n									Join the choir for a night of hopeful selections to invite contemplation and reinvigoration. Selections include Communion\, Ballad to the Moon\, and The 105th Psalm- all paying homage to the theme.  With the Requiem calling for Organ accompaniment\, First Presbyterian was the ideal location to feature Dr. Seth Bott on the Organ. It’s bound to be a thrilling night of beautiful music.  								\n				\n				\n				\n									\n					\n						\n									Buy tickets here\n					\n					\n				\n								\n				\n				\n				\n					\n				\n				\n	\n	First Presbyterian Church\n	\n	\n\n12 C Street East\n	\n		\n		Salt Lake City\,\n\n	Utah\n\n	84103\n\n	United States\n\n\n\n\n	+ Google Map \n\n\n	\n					\n						\n	 \n\n\n	\n	View Venue Website \n\n\n\n	\n\n\n\n		\n	\n				\n				\n				\n				\n					\n				\n		\n					\n				\n				\n					\n	\n		\n\n				UVAGO Super Saturday 2026	\n\n\n		\n	\n		UU Organ Area Recitals
URL:https://slcago.org/event/chapter-member-appreciation-open-console/
LOCATION:Cathedral of the Madeleine\, 331 E. South Temple\, Salt Lake City\, Utah\, 84111
END:VEVENT
BEGIN:VEVENT
DTSTART;TZID=America/Denver:20240830T193000
DTEND;TZID=America/Denver:20240830T213000
DTSTAMP:20260424T162534
CREATED:20240605T201516Z
LAST-MODIFIED:20240827T232258Z
UID:4844-1725046200-1725053400@slcago.org
SUMMARY:Organ Fest XV
DESCRIPTION:Saturday\, April 25\n\n	\n\n	  @  \n\n\n7:30 PM\n\n		\n\n\n\n	\n	  -  \n\n9:30 PM\n\n\n\n	\n				\n				\n				\n				\n																														\n				\n				\n				\n					Salt Lake Symphonic Choir Annual Spring Concert				\n				\n				\n				\n							\n			\n						\n		\n						\n				\n				\n				\n					\n	\n	Date & Time:	\n			Saturday\, April 25\n\n	\n\n	  @  \n\n\n7:30 PM\n\n		\n\n\n\n	\n	  -  \n\n9:30 PM\n\n\n\n	\n				\n				\n				\n				\n				\n							\n			\n						\n		\n						\n				\n					\n				\n		\n					\n		\n		\n				\n				\n									Featured Organist: Dr. Seth Bott								\n				\n				\n				\n																														\n				\n				\n				\n					\n	\n		\n\n	\n	Add to calendar	\n		\n	\n\n		\n			\n									\n	Google Calendar\n\n									\n	iCalendar\n\n									\n	Outlook 365\n\n									\n	Outlook Live\n\n							\n		\n\n		\n	\n\n				\n				\n				\n		\n				\n				\n									Join the choir for a night of hopeful selections to invite contemplation and reinvigoration. Selections include Communion\, Ballad to the Moon\, and The 105th Psalm- all paying homage to the theme.  With the Requiem calling for Organ accompaniment\, First Presbyterian was the ideal location to feature Dr. Seth Bott on the Organ. It’s bound to be a thrilling night of beautiful music.  								\n				\n				\n				\n									\n					\n						\n									Buy tickets here\n					\n					\n				\n								\n				\n				\n				\n					\n				\n				\n	\n	First Presbyterian Church\n	\n	\n\n12 C Street East\n	\n		\n		Salt Lake City\,\n\n	Utah\n\n	84103\n\n	United States\n\n\n\n\n	+ Google Map \n\n\n	\n					\n						\n	 \n\n\n	\n	View Venue Website \n\n\n\n	\n\n\n\n		\n	\n				\n				\n				\n				\n					\n				\n		\n					\n				\n				\n					\n	\n		\n\n				UVAGO Super Saturday 2026	\n\n\n		\n	\n		UU Organ Area Recitals
URL:https://slcago.org/event/organ-and-trumpet-recital/
LOCATION:Tabernacle on Temple Square\, 50 West North Temple\, Salt Lake City\, UT\, 84150\, United States
END:VEVENT
END:VCALENDAR