BEGIN:VCALENDAR
VERSION:2.0
PRODID:-//The Official Site of the Salt Lake City AGO - ECPv6.15.20//NONSGML v1.0//EN
CALSCALE:GREGORIAN
METHOD:PUBLISH
X-ORIGINAL-URL:https://slcago.org
X-WR-CALDESC:Events for The Official Site of the Salt Lake City AGO
REFRESH-INTERVAL;VALUE=DURATION:PT1H
X-Robots-Tag:noindex
X-PUBLISHED-TTL:PT1H
BEGIN:VTIMEZONE
TZID:America/Denver
BEGIN:DAYLIGHT
TZOFFSETFROM:-0700
TZOFFSETTO:-0600
TZNAME:MDT
DTSTART:20240310T090000
END:DAYLIGHT
BEGIN:STANDARD
TZOFFSETFROM:-0600
TZOFFSETTO:-0700
TZNAME:MST
DTSTART:20241103T080000
END:STANDARD
BEGIN:DAYLIGHT
TZOFFSETFROM:-0700
TZOFFSETTO:-0600
TZNAME:MDT
DTSTART:20250309T090000
END:DAYLIGHT
BEGIN:STANDARD
TZOFFSETFROM:-0600
TZOFFSETTO:-0700
TZNAME:MST
DTSTART:20251102T080000
END:STANDARD
BEGIN:DAYLIGHT
TZOFFSETFROM:-0700
TZOFFSETTO:-0600
TZNAME:MDT
DTSTART:20260308T090000
END:DAYLIGHT
BEGIN:STANDARD
TZOFFSETFROM:-0600
TZOFFSETTO:-0700
TZNAME:MST
DTSTART:20261101T080000
END:STANDARD
END:VTIMEZONE
BEGIN:VEVENT
DTSTART;TZID=America/Denver:20250309T200000
DTEND;TZID=America/Denver:20250309T220000
DTSTAMP:20260424T071340
CREATED:20250306T232344Z
LAST-MODIFIED:20250306T234016Z
UID:6281-1741550400-1741557600@slcago.org
SUMMARY:John Challenger in Concert
DESCRIPTION:Saturday\, April 25\n\n	\n\n	  @  \n\n\n7:30 PM\n\n		\n\n\n\n	\n	  -  \n\n9:30 PM\n\n\n\n	\n				\n				\n				\n				\n																														\n				\n				\n				\n					Salt Lake Symphonic Choir Annual Spring Concert				\n				\n				\n				\n							\n			\n						\n		\n						\n				\n				\n				\n					\n	\n	Date & Time:	\n			Saturday\, April 25\n\n	\n\n	  @  \n\n\n7:30 PM\n\n		\n\n\n\n	\n	  -  \n\n9:30 PM\n\n\n\n	\n				\n				\n				\n				\n				\n							\n			\n						\n		\n						\n				\n					\n				\n		\n					\n		\n		\n				\n				\n									Featured Organist: Dr. Seth Bott								\n				\n				\n				\n																														\n				\n				\n				\n					\n	\n		\n\n	\n	Add to calendar	\n		\n	\n\n		\n			\n									\n	Google Calendar\n\n									\n	iCalendar\n\n									\n	Outlook 365\n\n									\n	Outlook Live\n\n							\n		\n\n		\n	\n\n				\n				\n				\n		\n				\n				\n									Join the choir for a night of hopeful selections to invite contemplation and reinvigoration. Selections include Communion\, Ballad to the Moon\, and The 105th Psalm- all paying homage to the theme.  With the Requiem calling for Organ accompaniment\, First Presbyterian was the ideal location to feature Dr. Seth Bott on the Organ. It’s bound to be a thrilling night of beautiful music.  								\n				\n				\n				\n									\n					\n						\n									Buy tickets here\n					\n					\n				\n								\n				\n				\n				\n					\n				\n				\n	\n	First Presbyterian Church\n	\n	\n\n12 C Street East\n	\n		\n		Salt Lake City\,\n\n	Utah\n\n	84103\n\n	United States\n\n\n\n\n	+ Google Map \n\n\n	\n					\n						\n	 \n\n\n	\n	View Venue Website \n\n\n\n	\n\n\n\n		\n	\n				\n				\n				\n				\n					\n				\n		\n					\n				\n				\n					\n	\n		\n\n				UVAGO Super Saturday 2026	\n\n\n		\n	\n		UU Organ Area Recitals
URL:https://slcago.org/event/john-challenger-in-concert/
LOCATION:Cathedral of the Madeleine\, 331 E South Temple St\, Salt Lake City\, UT\, United States
ATTACH;FMTTYPE=image/jpeg:https://slcago.org/wp-content/uploads/2025/01/Madeleine-en-chamades-scaled.jpeg
END:VEVENT
BEGIN:VEVENT
DTSTART;TZID=America/Denver:20250311T193000
DTEND;TZID=America/Denver:20250311T213000
DTSTAMP:20260424T071341
CREATED:20250208T214241Z
LAST-MODIFIED:20250225T145933Z
UID:5409-1741721400-1741728600@slcago.org
SUMMARY:Salt Lake Tabernacle Organists Recital
DESCRIPTION:Saturday\, April 25\n\n	\n\n	  @  \n\n\n7:30 PM\n\n		\n\n\n\n	\n	  -  \n\n9:30 PM\n\n\n\n	\n				\n				\n				\n				\n																														\n				\n				\n				\n					Salt Lake Symphonic Choir Annual Spring Concert				\n				\n				\n				\n							\n			\n						\n		\n						\n				\n				\n				\n					\n	\n	Date & Time:	\n			Saturday\, April 25\n\n	\n\n	  @  \n\n\n7:30 PM\n\n		\n\n\n\n	\n	  -  \n\n9:30 PM\n\n\n\n	\n				\n				\n				\n				\n				\n							\n			\n						\n		\n						\n				\n					\n				\n		\n					\n		\n		\n				\n				\n									Featured Organist: Dr. Seth Bott								\n				\n				\n				\n																														\n				\n				\n				\n					\n	\n		\n\n	\n	Add to calendar	\n		\n	\n\n		\n			\n									\n	Google Calendar\n\n									\n	iCalendar\n\n									\n	Outlook 365\n\n									\n	Outlook Live\n\n							\n		\n\n		\n	\n\n				\n				\n				\n		\n				\n				\n									Join the choir for a night of hopeful selections to invite contemplation and reinvigoration. Selections include Communion\, Ballad to the Moon\, and The 105th Psalm- all paying homage to the theme.  With the Requiem calling for Organ accompaniment\, First Presbyterian was the ideal location to feature Dr. Seth Bott on the Organ. It’s bound to be a thrilling night of beautiful music.  								\n				\n				\n				\n									\n					\n						\n									Buy tickets here\n					\n					\n				\n								\n				\n				\n				\n					\n				\n				\n	\n	First Presbyterian Church\n	\n	\n\n12 C Street East\n	\n		\n		Salt Lake City\,\n\n	Utah\n\n	84103\n\n	United States\n\n\n\n\n	+ Google Map \n\n\n	\n					\n						\n	 \n\n\n	\n	View Venue Website \n\n\n\n	\n\n\n\n		\n	\n				\n				\n				\n				\n					\n				\n		\n					\n				\n				\n					\n	\n		\n\n				UVAGO Super Saturday 2026	\n\n\n		\n	\n		UU Organ Area Recitals
URL:https://slcago.org/event/salt-lake-tabernacle-organists-recital/
LOCATION:BYU Music Building\, 1100 900 E\, Provo\, Utah\, 84604
ATTACH;FMTTYPE=image/png:https://slcago.org/wp-content/uploads/2022/10/BYU-MonogramWordmark_navy@2x-1-e1666818310664.png
END:VEVENT
BEGIN:VEVENT
DTSTART;TZID=America/Denver:20250321T180000
DTEND;TZID=America/Denver:20250321T220000
DTSTAMP:20260424T071341
CREATED:20241130T200005Z
LAST-MODIFIED:20250225T151935Z
UID:5314-1742580000-1742594400@slcago.org
SUMMARY:Lenten Soup Supper and Member Recital
DESCRIPTION:Saturday\, April 25\n\n	\n\n	  @  \n\n\n7:30 PM\n\n		\n\n\n\n	\n	  -  \n\n9:30 PM\n\n\n\n	\n				\n				\n				\n				\n																														\n				\n				\n				\n					Salt Lake Symphonic Choir Annual Spring Concert				\n				\n				\n				\n							\n			\n						\n		\n						\n				\n				\n				\n					\n	\n	Date & Time:	\n			Saturday\, April 25\n\n	\n\n	  @  \n\n\n7:30 PM\n\n		\n\n\n\n	\n	  -  \n\n9:30 PM\n\n\n\n	\n				\n				\n				\n				\n				\n							\n			\n						\n		\n						\n				\n					\n				\n		\n					\n		\n		\n				\n				\n									Featured Organist: Dr. Seth Bott								\n				\n				\n				\n																														\n				\n				\n				\n					\n	\n		\n\n	\n	Add to calendar	\n		\n	\n\n		\n			\n									\n	Google Calendar\n\n									\n	iCalendar\n\n									\n	Outlook 365\n\n									\n	Outlook Live\n\n							\n		\n\n		\n	\n\n				\n				\n				\n		\n				\n				\n									Join the choir for a night of hopeful selections to invite contemplation and reinvigoration. Selections include Communion\, Ballad to the Moon\, and The 105th Psalm- all paying homage to the theme.  With the Requiem calling for Organ accompaniment\, First Presbyterian was the ideal location to feature Dr. Seth Bott on the Organ. It’s bound to be a thrilling night of beautiful music.  								\n				\n				\n				\n									\n					\n						\n									Buy tickets here\n					\n					\n				\n								\n				\n				\n				\n					\n				\n				\n	\n	First Presbyterian Church\n	\n	\n\n12 C Street East\n	\n		\n		Salt Lake City\,\n\n	Utah\n\n	84103\n\n	United States\n\n\n\n\n	+ Google Map \n\n\n	\n					\n						\n	 \n\n\n	\n	View Venue Website \n\n\n\n	\n\n\n\n		\n	\n				\n				\n				\n				\n					\n				\n		\n					\n				\n				\n					\n	\n		\n\n				UVAGO Super Saturday 2026	\n\n\n		\n	\n		UU Organ Area Recitals
URL:https://slcago.org/event/lenten-soup-supper-and-member-recital/
LOCATION:St. Ambrose Catholic Church\, 2315 East Redondo Avenue\, Salt Lake City\, Utah\, United States
ATTACH;FMTTYPE=image/jpeg:https://slcago.org/wp-content/uploads/2024/11/A4281DDF-325E-4BF9-820E-84BEC675665A_1_105_c-e1740270750832.jpeg
ORGANIZER;CN="Halden Toy":MAILTO:halden@slcago.org
END:VEVENT
END:VCALENDAR