BEGIN:VCALENDAR
VERSION:2.0
PRODID:-//The Official Site of the Salt Lake City AGO - ECPv6.15.20//NONSGML v1.0//EN
CALSCALE:GREGORIAN
METHOD:PUBLISH
X-ORIGINAL-URL:https://slcago.org
X-WR-CALDESC:Events for The Official Site of the Salt Lake City AGO
REFRESH-INTERVAL;VALUE=DURATION:PT1H
X-Robots-Tag:noindex
X-PUBLISHED-TTL:PT1H
BEGIN:VTIMEZONE
TZID:America/Denver
BEGIN:DAYLIGHT
TZOFFSETFROM:-0700
TZOFFSETTO:-0600
TZNAME:MDT
DTSTART:20250309T090000
END:DAYLIGHT
BEGIN:STANDARD
TZOFFSETFROM:-0600
TZOFFSETTO:-0700
TZNAME:MST
DTSTART:20251102T080000
END:STANDARD
BEGIN:DAYLIGHT
TZOFFSETFROM:-0700
TZOFFSETTO:-0600
TZNAME:MDT
DTSTART:20260308T090000
END:DAYLIGHT
BEGIN:STANDARD
TZOFFSETFROM:-0600
TZOFFSETTO:-0700
TZNAME:MST
DTSTART:20261101T080000
END:STANDARD
BEGIN:DAYLIGHT
TZOFFSETFROM:-0700
TZOFFSETTO:-0600
TZNAME:MDT
DTSTART:20270314T090000
END:DAYLIGHT
BEGIN:STANDARD
TZOFFSETFROM:-0600
TZOFFSETTO:-0700
TZNAME:MST
DTSTART:20271107T080000
END:STANDARD
END:VTIMEZONE
BEGIN:VEVENT
DTSTART;TZID=America/Denver:20260108T150000
DTEND;TZID=America/Denver:20260108T170000
DTSTAMP:20260423T133810
CREATED:20251229T175952Z
LAST-MODIFIED:20251231T181134Z
UID:8976-1767884400-1767891600@slcago.org
SUMMARY:David Pickering Master Class
DESCRIPTION:Saturday\, April 25\n\n	\n\n	  @  \n\n\n7:30 PM\n\n		\n\n\n\n	\n	  -  \n\n9:30 PM\n\n\n\n	\n				\n				\n				\n				\n																														\n				\n				\n				\n					Salt Lake Symphonic Choir Annual Spring Concert				\n				\n				\n				\n							\n			\n						\n		\n						\n				\n				\n				\n					\n	\n	Date & Time:	\n			Saturday\, April 25\n\n	\n\n	  @  \n\n\n7:30 PM\n\n		\n\n\n\n	\n	  -  \n\n9:30 PM\n\n\n\n	\n				\n				\n				\n				\n				\n							\n			\n						\n		\n						\n				\n					\n				\n		\n					\n		\n		\n				\n				\n									Featured Organist: Dr. Seth Bott								\n				\n				\n				\n																														\n				\n				\n				\n					\n	\n		\n\n	\n	Add to calendar	\n		\n	\n\n		\n			\n									\n	Google Calendar\n\n									\n	iCalendar\n\n									\n	Outlook 365\n\n									\n	Outlook Live\n\n							\n		\n\n		\n	\n\n				\n				\n				\n		\n				\n				\n									Join the choir for a night of hopeful selections to invite contemplation and reinvigoration. Selections include Communion\, Ballad to the Moon\, and The 105th Psalm- all paying homage to the theme.  With the Requiem calling for Organ accompaniment\, First Presbyterian was the ideal location to feature Dr. Seth Bott on the Organ. It’s bound to be a thrilling night of beautiful music.  								\n				\n				\n				\n									\n					\n						\n									Buy tickets here\n					\n					\n				\n								\n				\n				\n				\n					\n				\n				\n	\n	First Presbyterian Church\n	\n	\n\n12 C Street East\n	\n		\n		Salt Lake City\,\n\n	Utah\n\n	84103\n\n	United States\n\n\n\n\n	+ Google Map \n\n\n	\n					\n						\n	 \n\n\n	\n	View Venue Website \n\n\n\n	\n\n\n\n		\n	\n				\n				\n				\n				\n					\n				\n		\n					\n				\n				\n					\n	\n		\n\n				UVAGO Super Saturday 2026	\n\n\n		\n	\n		UU Organ Area Recitals
URL:https://slcago.org/event/david-pickering-master-class/
LOCATION:Daines Concert Hall USU\, 4030 Old Main Hill\, Logan\, UT\, 84322\, United States
ATTACH;FMTTYPE=image/jpeg:https://slcago.org/wp-content/uploads/2025/12/USU-Console-up-close-scaled-e1769575276622.jpeg
ORGANIZER;CN="Shelby Fisher":MAILTO:dean@slcago.org
END:VEVENT
BEGIN:VEVENT
DTSTART;TZID=America/Denver:20260110T080000
DTEND;TZID=America/Denver:20260110T140000
DTSTAMP:20260423T133810
CREATED:20251017T034035Z
LAST-MODIFIED:20251229T200139Z
UID:8843-1768032000-1768053600@slcago.org
SUMMARY:Super Saturday 2026
DESCRIPTION:Saturday\, April 25\n\n	\n\n	  @  \n\n\n7:30 PM\n\n		\n\n\n\n	\n	  -  \n\n9:30 PM\n\n\n\n	\n				\n				\n				\n				\n																														\n				\n				\n				\n					Salt Lake Symphonic Choir Annual Spring Concert				\n				\n				\n				\n							\n			\n						\n		\n						\n				\n				\n				\n					\n	\n	Date & Time:	\n			Saturday\, April 25\n\n	\n\n	  @  \n\n\n7:30 PM\n\n		\n\n\n\n	\n	  -  \n\n9:30 PM\n\n\n\n	\n				\n				\n				\n				\n				\n							\n			\n						\n		\n						\n				\n					\n				\n		\n					\n		\n		\n				\n				\n									Featured Organist: Dr. Seth Bott								\n				\n				\n				\n																														\n				\n				\n				\n					\n	\n		\n\n	\n	Add to calendar	\n		\n	\n\n		\n			\n									\n	Google Calendar\n\n									\n	iCalendar\n\n									\n	Outlook 365\n\n									\n	Outlook Live\n\n							\n		\n\n		\n	\n\n				\n				\n				\n		\n				\n				\n									Join the choir for a night of hopeful selections to invite contemplation and reinvigoration. Selections include Communion\, Ballad to the Moon\, and The 105th Psalm- all paying homage to the theme.  With the Requiem calling for Organ accompaniment\, First Presbyterian was the ideal location to feature Dr. Seth Bott on the Organ. It’s bound to be a thrilling night of beautiful music.  								\n				\n				\n				\n									\n					\n						\n									Buy tickets here\n					\n					\n				\n								\n				\n				\n				\n					\n				\n				\n	\n	First Presbyterian Church\n	\n	\n\n12 C Street East\n	\n		\n		Salt Lake City\,\n\n	Utah\n\n	84103\n\n	United States\n\n\n\n\n	+ Google Map \n\n\n	\n					\n						\n	 \n\n\n	\n	View Venue Website \n\n\n\n	\n\n\n\n		\n	\n				\n				\n				\n				\n					\n				\n		\n					\n				\n				\n					\n	\n		\n\n				UVAGO Super Saturday 2026	\n\n\n		\n	\n		UU Organ Area Recitals
URL:https://slcago.org/event/super-saturday-2026/
LOCATION:University of Utah School of Music\, 1375 Presidents' Circle\, Utah\, 84112
ATTACH;FMTTYPE=image/png:https://slcago.org/wp-content/uploads/2025/10/Super-Saturday-Event-Logo-Wordmark-Style.png
ORGANIZER;CN="Shelby Fisher":MAILTO:dean@slcago.org
END:VEVENT
BEGIN:VEVENT
DTSTART;TZID=America/Denver:20260111T200000
DTEND;TZID=America/Denver:20260111T220000
DTSTAMP:20260423T133810
CREATED:20251229T180239Z
LAST-MODIFIED:20251229T193833Z
UID:8981-1768161600-1768168800@slcago.org
SUMMARY:Eccles Organ Festival Richard Fitzgerald
DESCRIPTION:Saturday\, April 25\n\n	\n\n	  @  \n\n\n7:30 PM\n\n		\n\n\n\n	\n	  -  \n\n9:30 PM\n\n\n\n	\n				\n				\n				\n				\n																														\n				\n				\n				\n					Salt Lake Symphonic Choir Annual Spring Concert				\n				\n				\n				\n							\n			\n						\n		\n						\n				\n				\n				\n					\n	\n	Date & Time:	\n			Saturday\, April 25\n\n	\n\n	  @  \n\n\n7:30 PM\n\n		\n\n\n\n	\n	  -  \n\n9:30 PM\n\n\n\n	\n				\n				\n				\n				\n				\n							\n			\n						\n		\n						\n				\n					\n				\n		\n					\n		\n		\n				\n				\n									Featured Organist: Dr. Seth Bott								\n				\n				\n				\n																														\n				\n				\n				\n					\n	\n		\n\n	\n	Add to calendar	\n		\n	\n\n		\n			\n									\n	Google Calendar\n\n									\n	iCalendar\n\n									\n	Outlook 365\n\n									\n	Outlook Live\n\n							\n		\n\n		\n	\n\n				\n				\n				\n		\n				\n				\n									Join the choir for a night of hopeful selections to invite contemplation and reinvigoration. Selections include Communion\, Ballad to the Moon\, and The 105th Psalm- all paying homage to the theme.  With the Requiem calling for Organ accompaniment\, First Presbyterian was the ideal location to feature Dr. Seth Bott on the Organ. It’s bound to be a thrilling night of beautiful music.  								\n				\n				\n				\n									\n					\n						\n									Buy tickets here\n					\n					\n				\n								\n				\n				\n				\n					\n				\n				\n	\n	First Presbyterian Church\n	\n	\n\n12 C Street East\n	\n		\n		Salt Lake City\,\n\n	Utah\n\n	84103\n\n	United States\n\n\n\n\n	+ Google Map \n\n\n	\n					\n						\n	 \n\n\n	\n	View Venue Website \n\n\n\n	\n\n\n\n		\n	\n				\n				\n				\n				\n					\n				\n		\n					\n				\n				\n					\n	\n		\n\n				UVAGO Super Saturday 2026	\n\n\n		\n	\n		UU Organ Area Recitals
URL:https://slcago.org/event/eccles-organ-festival-richard-fitzgerald/
LOCATION:Cathedral of the Madeleine\, 331 E South Temple St\, Salt Lake City\, UT\, United States
CATEGORIES:Concerts & Recitals
ATTACH;FMTTYPE=image/jpeg:https://slcago.org/wp-content/uploads/2025/12/Richard-Fitzgerald-e1767033477377.jpg
END:VEVENT
BEGIN:VEVENT
DTSTART;TZID=America/Denver:20260118T150000
DTEND;TZID=America/Denver:20260118T170000
DTSTAMP:20260423T133810
CREATED:20251229T181423Z
LAST-MODIFIED:20251229T185942Z
UID:8983-1768748400-1768755600@slcago.org
SUMMARY:Richard Elliott Plays Messiaen
DESCRIPTION:Saturday\, April 25\n\n	\n\n	  @  \n\n\n7:30 PM\n\n		\n\n\n\n	\n	  -  \n\n9:30 PM\n\n\n\n	\n				\n				\n				\n				\n																														\n				\n				\n				\n					Salt Lake Symphonic Choir Annual Spring Concert				\n				\n				\n				\n							\n			\n						\n		\n						\n				\n				\n				\n					\n	\n	Date & Time:	\n			Saturday\, April 25\n\n	\n\n	  @  \n\n\n7:30 PM\n\n		\n\n\n\n	\n	  -  \n\n9:30 PM\n\n\n\n	\n				\n				\n				\n				\n				\n							\n			\n						\n		\n						\n				\n					\n				\n		\n					\n		\n		\n				\n				\n									Featured Organist: Dr. Seth Bott								\n				\n				\n				\n																														\n				\n				\n				\n					\n	\n		\n\n	\n	Add to calendar	\n		\n	\n\n		\n			\n									\n	Google Calendar\n\n									\n	iCalendar\n\n									\n	Outlook 365\n\n									\n	Outlook Live\n\n							\n		\n\n		\n	\n\n				\n				\n				\n		\n				\n				\n									Join the choir for a night of hopeful selections to invite contemplation and reinvigoration. Selections include Communion\, Ballad to the Moon\, and The 105th Psalm- all paying homage to the theme.  With the Requiem calling for Organ accompaniment\, First Presbyterian was the ideal location to feature Dr. Seth Bott on the Organ. It’s bound to be a thrilling night of beautiful music.  								\n				\n				\n				\n									\n					\n						\n									Buy tickets here\n					\n					\n				\n								\n				\n				\n				\n					\n				\n				\n	\n	First Presbyterian Church\n	\n	\n\n12 C Street East\n	\n		\n		Salt Lake City\,\n\n	Utah\n\n	84103\n\n	United States\n\n\n\n\n	+ Google Map \n\n\n	\n					\n						\n	 \n\n\n	\n	View Venue Website \n\n\n\n	\n\n\n\n		\n	\n				\n				\n				\n				\n					\n				\n		\n					\n				\n				\n					\n	\n		\n\n				UVAGO Super Saturday 2026	\n\n\n		\n	\n		UU Organ Area Recitals
URL:https://slcago.org/event/richard-elliott-plays-messiaen/
ATTACH;FMTTYPE=image/jpeg:https://slcago.org/wp-content/uploads/2025/12/Richard-Elliott.jpg
END:VEVENT
BEGIN:VEVENT
DTSTART;TZID=America/Denver:20260130T193000
DTEND;TZID=America/Denver:20260130T213000
DTSTAMP:20260423T133810
CREATED:20251229T182405Z
LAST-MODIFIED:20251229T192759Z
UID:8996-1769801400-1769808600@slcago.org
SUMMARY:Tabernacle Organ Virtuoso Performance Series Daniel Hyde
DESCRIPTION:Saturday\, April 25\n\n	\n\n	  @  \n\n\n7:30 PM\n\n		\n\n\n\n	\n	  -  \n\n9:30 PM\n\n\n\n	\n				\n				\n				\n				\n																														\n				\n				\n				\n					Salt Lake Symphonic Choir Annual Spring Concert				\n				\n				\n				\n							\n			\n						\n		\n						\n				\n				\n				\n					\n	\n	Date & Time:	\n			Saturday\, April 25\n\n	\n\n	  @  \n\n\n7:30 PM\n\n		\n\n\n\n	\n	  -  \n\n9:30 PM\n\n\n\n	\n				\n				\n				\n				\n				\n							\n			\n						\n		\n						\n				\n					\n				\n		\n					\n		\n		\n				\n				\n									Featured Organist: Dr. Seth Bott								\n				\n				\n				\n																														\n				\n				\n				\n					\n	\n		\n\n	\n	Add to calendar	\n		\n	\n\n		\n			\n									\n	Google Calendar\n\n									\n	iCalendar\n\n									\n	Outlook 365\n\n									\n	Outlook Live\n\n							\n		\n\n		\n	\n\n				\n				\n				\n		\n				\n				\n									Join the choir for a night of hopeful selections to invite contemplation and reinvigoration. Selections include Communion\, Ballad to the Moon\, and The 105th Psalm- all paying homage to the theme.  With the Requiem calling for Organ accompaniment\, First Presbyterian was the ideal location to feature Dr. Seth Bott on the Organ. It’s bound to be a thrilling night of beautiful music.  								\n				\n				\n				\n									\n					\n						\n									Buy tickets here\n					\n					\n				\n								\n				\n				\n				\n					\n				\n				\n	\n	First Presbyterian Church\n	\n	\n\n12 C Street East\n	\n		\n		Salt Lake City\,\n\n	Utah\n\n	84103\n\n	United States\n\n\n\n\n	+ Google Map \n\n\n	\n					\n						\n	 \n\n\n	\n	View Venue Website \n\n\n\n	\n\n\n\n		\n	\n				\n				\n				\n				\n					\n				\n		\n					\n				\n				\n					\n	\n		\n\n				UVAGO Super Saturday 2026	\n\n\n		\n	\n		UU Organ Area Recitals
URL:https://slcago.org/event/daniel-hyde-at-tabernacle-organ-virtuoso-performance-series/
LOCATION:Tabernacle on Temple Square\, 50 West North Temple\, Salt Lake City\, UT\, 84150\, United States
ATTACH;FMTTYPE=image/png:https://slcago.org/wp-content/uploads/2025/06/Old-Tabernacle-noon-recital-program-cover-organ-facade-only.png
END:VEVENT
BEGIN:VEVENT
DTSTART;TZID=America/Denver:20260131T140000
DTEND;TZID=America/Denver:20260131T160000
DTSTAMP:20260423T133810
CREATED:20251229T183242Z
LAST-MODIFIED:20251229T192045Z
UID:9002-1769868000-1769875200@slcago.org
SUMMARY:Discovering Handel at the Eccles Organ Festival Family Concert
DESCRIPTION:Saturday\, April 25\n\n	\n\n	  @  \n\n\n7:30 PM\n\n		\n\n\n\n	\n	  -  \n\n9:30 PM\n\n\n\n	\n				\n				\n				\n				\n																														\n				\n				\n				\n					Salt Lake Symphonic Choir Annual Spring Concert				\n				\n				\n				\n							\n			\n						\n		\n						\n				\n				\n				\n					\n	\n	Date & Time:	\n			Saturday\, April 25\n\n	\n\n	  @  \n\n\n7:30 PM\n\n		\n\n\n\n	\n	  -  \n\n9:30 PM\n\n\n\n	\n				\n				\n				\n				\n				\n							\n			\n						\n		\n						\n				\n					\n				\n		\n					\n		\n		\n				\n				\n									Featured Organist: Dr. Seth Bott								\n				\n				\n				\n																														\n				\n				\n				\n					\n	\n		\n\n	\n	Add to calendar	\n		\n	\n\n		\n			\n									\n	Google Calendar\n\n									\n	iCalendar\n\n									\n	Outlook 365\n\n									\n	Outlook Live\n\n							\n		\n\n		\n	\n\n				\n				\n				\n		\n				\n				\n									Join the choir for a night of hopeful selections to invite contemplation and reinvigoration. Selections include Communion\, Ballad to the Moon\, and The 105th Psalm- all paying homage to the theme.  With the Requiem calling for Organ accompaniment\, First Presbyterian was the ideal location to feature Dr. Seth Bott on the Organ. It’s bound to be a thrilling night of beautiful music.  								\n				\n				\n				\n									\n					\n						\n									Buy tickets here\n					\n					\n				\n								\n				\n				\n				\n					\n				\n				\n	\n	First Presbyterian Church\n	\n	\n\n12 C Street East\n	\n		\n		Salt Lake City\,\n\n	Utah\n\n	84103\n\n	United States\n\n\n\n\n	+ Google Map \n\n\n	\n					\n						\n	 \n\n\n	\n	View Venue Website \n\n\n\n	\n\n\n\n		\n	\n				\n				\n				\n				\n					\n				\n		\n					\n				\n				\n					\n	\n		\n\n				UVAGO Super Saturday 2026	\n\n\n		\n	\n		UU Organ Area Recitals
URL:https://slcago.org/event/discovering-handel-at-the-eccles-organ-festival-family-concert/
LOCATION:Cathedral of the Madeleine\, 331 E South Temple St\, Salt Lake City\, UT\, United States
ATTACH;FMTTYPE=image/jpeg:https://slcago.org/wp-content/uploads/2025/12/GF-Handel-scaled.jpeg
END:VEVENT
END:VCALENDAR